BEGIN:VCALENDAR
VERSION:2.0
PRODID:-//ÖRHB - ECPv6.15.18//NONSGML v1.0//EN
CALSCALE:GREGORIAN
METHOD:PUBLISH
X-ORIGINAL-URL:https://www.oerhb.at
X-WR-CALDESC:Veranstaltungen für ÖRHB
REFRESH-INTERVAL;VALUE=DURATION:PT1H
X-Robots-Tag:noindex
X-PUBLISHED-TTL:PT1H
BEGIN:VTIMEZONE
TZID:Europe/Vienna
BEGIN:DAYLIGHT
TZOFFSETFROM:+0100
TZOFFSETTO:+0200
TZNAME:CEST
DTSTART:20220327T010000
END:DAYLIGHT
BEGIN:STANDARD
TZOFFSETFROM:+0200
TZOFFSETTO:+0100
TZNAME:CET
DTSTART:20221030T010000
END:STANDARD
BEGIN:DAYLIGHT
TZOFFSETFROM:+0100
TZOFFSETTO:+0200
TZNAME:CEST
DTSTART:20230326T010000
END:DAYLIGHT
BEGIN:STANDARD
TZOFFSETFROM:+0200
TZOFFSETTO:+0100
TZNAME:CET
DTSTART:20231029T010000
END:STANDARD
BEGIN:DAYLIGHT
TZOFFSETFROM:+0100
TZOFFSETTO:+0200
TZNAME:CEST
DTSTART:20240331T010000
END:DAYLIGHT
BEGIN:STANDARD
TZOFFSETFROM:+0200
TZOFFSETTO:+0100
TZNAME:CET
DTSTART:20241027T010000
END:STANDARD
BEGIN:DAYLIGHT
TZOFFSETFROM:+0100
TZOFFSETTO:+0200
TZNAME:CEST
DTSTART:20250330T010000
END:DAYLIGHT
BEGIN:STANDARD
TZOFFSETFROM:+0200
TZOFFSETTO:+0100
TZNAME:CET
DTSTART:20251026T010000
END:STANDARD
BEGIN:DAYLIGHT
TZOFFSETFROM:+0100
TZOFFSETTO:+0200
TZNAME:CEST
DTSTART:20260329T010000
END:DAYLIGHT
BEGIN:STANDARD
TZOFFSETFROM:+0200
TZOFFSETTO:+0100
TZNAME:CET
DTSTART:20261025T010000
END:STANDARD
BEGIN:DAYLIGHT
TZOFFSETFROM:+0100
TZOFFSETTO:+0200
TZNAME:CEST
DTSTART:20270328T010000
END:DAYLIGHT
BEGIN:STANDARD
TZOFFSETFROM:+0200
TZOFFSETTO:+0100
TZNAME:CET
DTSTART:20271031T010000
END:STANDARD
END:VTIMEZONE
BEGIN:VEVENT
DTSTART;VALUE=DATE:20260314
DTEND;VALUE=DATE:20260316
DTSTAMP:20260424T104602
CREATED:20251203T073157Z
LAST-MODIFIED:20251203T192618Z
UID:10000252-1773446400-1773619199@www.oerhb.at
SUMMARY:GRUPPENKOMMANDANT:INNEN Lehrgang 2026 - Teil 2
DESCRIPTION:Die Bundeseinsatzleitung lädt euch herzlich zum nächsten Lehrgang für Gruppenkommandant:innen ein. \nDer Lehrgang ist in erster Linie für Helfer:innen in der ÖRHB gedacht und sollte\, wenn möglich\, auch nur von diesen besucht werden.\nDer Lehrgang ist auf 15 Teilnehmer:innen beschränkt und wird über den Schlüssel nach der Einsatzanzahl 2025 (eingelangte Einsatzberichte mit Stand 30. November 2025) je Land berechnet. \nDie Anmeldung erfolgt über die jeweilige Landesleitung an bel@oerhb.at \nZur Einladung mit weiteren Infos
URL:https://www.oerhb.at/veranstaltung/gruppenkommandantinnen-lehrgang-2026-teil-2/
LOCATION:Bundesausbildungszentrum Gröbming\, Schulstraße 443\, Gröbming\, 8962\, Österreich
CATEGORIES:Bund
ATTACH;FMTTYPE=image/jpeg:/wp-content/uploads/2024/05/wIMG_2061.jpg
ORGANIZER;CN="Bund BEL":MAILTO:bel@oerhb.at
END:VEVENT
BEGIN:VEVENT
DTSTART;VALUE=DATE:20260207
DTEND;VALUE=DATE:20260209
DTSTAMP:20260424T104602
CREATED:20251203T072827Z
LAST-MODIFIED:20251203T192722Z
UID:10000251-1770422400-1770595199@www.oerhb.at
SUMMARY:GRUPPENKOMMANDANT:INNEN Lehrgang 2026 - Teil 1
DESCRIPTION:Die Bundeseinsatzleitung lädt euch herzlich zum nächsten Lehrgang für Gruppenkommandant:innen ein. \nDer Lehrgang ist in erster Linie für Helfer:innen in der ÖRHB gedacht und sollte\, wenn möglich\, auch nur von diesen besucht werden.\nDer Lehrgang ist auf 15 Teilnehmer:innen beschränkt und wird über den Schlüssel nach der Einsatzanzahl 2025 (eingelangte Einsatzberichte mit Stand 30. November 2025) je Land berechnet. \nDie Anmeldung erfolgt über die jeweilige Landesleitung an bel@oerhb.at \nZur Einladung mit weiteren Infos
URL:https://www.oerhb.at/veranstaltung/gruppenkommandantinnen-lehrgang-2026/
LOCATION:Bundesausbildungszentrum Gröbming\, Schulstraße 443\, Gröbming\, 8962\, Österreich
CATEGORIES:Bund
ATTACH;FMTTYPE=image/jpeg:/wp-content/uploads/2024/05/wIMG_2061.jpg
ORGANIZER;CN="Bund BEL":MAILTO:bel@oerhb.at
END:VEVENT
BEGIN:VEVENT
DTSTART;TZID=Europe/Vienna:20260104T170000
DTEND;TZID=Europe/Vienna:20260104T200000
DTSTAMP:20260424T104602
CREATED:20251203T191807Z
LAST-MODIFIED:20251203T195544Z
UID:10000255-1767546000-1767556800@www.oerhb.at
SUMMARY:INFO-Schulung „Sicherer Einsatzfahrer“
DESCRIPTION:Die Bundeseinsatzleitung ladet herzlich zur Online-Info-Schulung ein. Es geht um Fahrten mit Blaulicht im Einsatz inklusive sonstiger wichtiger Informationen zu diesem Thema. \nDiese Schulung ist keine grundsätzliche Berechtigung für Fahrten mit Blaulicht im Einsatz\, dies entscheidet die jeweilige Landesgruppe in ihrem Bundesland selbst. \nEs werden 2 Termine angeboten: 11. Dezember 2025\, 17:00 Uhr ODER 04. Jänner 2026\, 17:00 Uhr \nAnmeldungen sind ab sofort bis längstens einen Tag vor der Schulung möglich. \nZur Einladung und weiteren Infos
URL:https://www.oerhb.at/veranstaltung/info-schulung-sicherer-einsatzfahrer-2/
LOCATION:Online
CATEGORIES:Bund
ATTACH;FMTTYPE=image/jpeg:/wp-content/uploads/2025/12/2024-10-19-10.02.42.jpg
ORGANIZER;CN="Bund BEL":MAILTO:bel@oerhb.at
END:VEVENT
BEGIN:VEVENT
DTSTART;TZID=Europe/Vienna:20251211T170000
DTEND;TZID=Europe/Vienna:20251211T200000
DTSTAMP:20260424T104602
CREATED:20251203T191156Z
LAST-MODIFIED:20251203T195651Z
UID:10000254-1765472400-1765483200@www.oerhb.at
SUMMARY:INFO-Schulung „Sicherer Einsatzfahrer“
DESCRIPTION:Die Bundeseinsatzleitung ladet herzlich zur Online-Info-Schulung ein. Es geht um Fahrten mit Blaulicht im Einsatz inklusive sonstiger wichtiger Informationen zu diesem Thema. \nDiese Schulung ist keine grundsätzliche Berechtigung für Fahrten mit Blaulicht im Einsatz\, dies entscheidet die jeweilige Landesgruppe in ihrem Bundesland selbst. \nEs werden 2 Termine angeboten: 11. Dezember 2025\, 17:00 Uhr ODER 04. Jänner 2026\, 17:00 Uhr \nAnmeldungen sind ab sofort bis längstens einen Tag vor der Schulung möglich. \nZur Einladung und weiteren Infos
URL:https://www.oerhb.at/veranstaltung/info-schulung-sicherer-einsatzfahrer/
LOCATION:Online
CATEGORIES:Bund
ATTACH;FMTTYPE=image/jpeg:/wp-content/uploads/2025/12/2024-10-19-10.02.42.jpg
ORGANIZER;CN="Bund BEL":MAILTO:bel@oerhb.at
END:VEVENT
BEGIN:VEVENT
DTSTART;VALUE=DATE:20250926
DTEND;VALUE=DATE:20250929
DTSTAMP:20260424T104602
CREATED:20241103T084031Z
LAST-MODIFIED:20250615T141925Z
UID:10000173-1758844800-1759103999@www.oerhb.at
SUMMARY:Einsatzleiterkurs
DESCRIPTION:Vom 26. – 28.9.2025 findet gemeinsam mit der Bundeseinsatzübung der Einsatzleiter Kurs statt.\nVoraussetzung für die Teilnahme am Kurs ist ein positiv absolvierter ÖRHB Einsatzleiter-Gehilfen-Kurs. Das praktische Arbeiten\, sprich das Leiten eines Einsatzes\, steht an diesem Wochenende im Vordergrund. Selbstverständlich kann die Einsatzleitung aus euren Einsatzbussen betrieben werden (Strom ist vorhanden). Pro Landesgruppe gibt es einen Kursplatz. \nDie Anmeldung erfolgt direkt per Mail an bel@oerhb.at. Anmeldeschluss ist der 3.8.2025. \nZur Einladung und weiteren Infos. \nTreffpunkt
URL:https://www.oerhb.at/veranstaltung/einsatzleiterkurs/
LOCATION:Bruckneudorf\, Bruckneudorf\, Burgenland\, 2460\, Österreich
CATEGORIES:Bund
ATTACH;FMTTYPE=image/jpeg:/wp-content/uploads/2024/08/Einsatzleiter.jpg
ORGANIZER;CN="Bund BEL":MAILTO:bel@oerhb.at
END:VEVENT
BEGIN:VEVENT
DTSTART;VALUE=DATE:20250926
DTEND;VALUE=DATE:20250929
DTSTAMP:20260424T104602
CREATED:20241103T083838Z
LAST-MODIFIED:20250615T141838Z
UID:10000172-1758844800-1759103999@www.oerhb.at
SUMMARY:Bundeseinsatzübung
DESCRIPTION:Die Bundeseinsatzleitung lädt euch herzlich zur Bundeseinsatzübung 2025 ein. Es erwartet euch ein buntes Programm nach den gewohnten Vorgaben.\nDiese beinhalten einen Übungsteil in der Nacht sowie die verpflichtende Absolvierung einer Weg- und Flächensuche.\nEinsatzfähigkeit des Hundes ist Voraussetzung für die Teilnahme als Hundeführer:in. Für die Teilnahme als „aktiver“ Helfer ist ebenfalls die Einsatzfähigkeit Voraussetzung. \nDie Teilnehmeranzahl wird auf 50 Personen (30 HF und 20 H) begrenzt sein. Wir freuen uns auch über weitere Teilnehmer:innen als Versteckpersonen bzw. Hilfspersonen für Auf- und Abbau. Dafür sind keine Voraussetzungen zu erfüllen. Für diese Personen übernimmt der Bund als Dankeschön gerne Unterkunft und Essen. Läufige Hündinnen sind bitte rechtzeitig zu melden. \nDie Anmeldung ist hier ab 20.6.2025\, 8:00 Uhr\, möglich. Anmeldeschluss ist am 3.8.2025. \nZur Einladung und weiteren Informationen. \nTreffpunkt
URL:https://www.oerhb.at/veranstaltung/bundeseinsatzuebung-3/
LOCATION:Bruckneudorf\, Bruckneudorf\, Burgenland\, 2460\, Österreich
CATEGORIES:Bund
ATTACH;FMTTYPE=image/jpeg:/wp-content/uploads/2024/05/wIMG_2061.jpg
ORGANIZER;CN="Bund BEL":MAILTO:bel@oerhb.at
END:VEVENT
BEGIN:VEVENT
DTSTART;VALUE=DATE:20250830
DTEND;VALUE=DATE:20250831
DTSTAMP:20260424T104602
CREATED:20250311T192155Z
LAST-MODIFIED:20250311T192355Z
UID:10000209-1756512000-1756598399@www.oerhb.at
SUMMARY:Bundestrümmertraining
DESCRIPTION:Die Bundeseinsatzleitung lädt euch in enger Absprache mit dem Bundesausbildungsteam recht herzlich zu Bundestrümmertrainings ins Tritolwerk ein. Alle trümmeraffinen Mitglieder sind herzlich eingeladen. \nEs gibt keine Kriterien für die Teilnahme\, aber ACHTUNG begrenzte Teilnehmerzahl von 25 Personen.  \nDetails zur Veranstaltung findet ihr hier. \nDie Anmeldung ist hier ab 1.4.2025\, 8:00 Uhr möglich.
URL:https://www.oerhb.at/veranstaltung/bundestruemmertraining-2/
LOCATION:Tritolwerk\, Tritolstraße 15\, Eggendorf\, 2492\, Österreich
CATEGORIES:Bund
ATTACH;FMTTYPE=image/jpeg:/wp-content/uploads/2025/03/Tritol.jpg
ORGANIZER;CN="Bund BEL":MAILTO:bel@oerhb.at
END:VEVENT
BEGIN:VEVENT
DTSTART;VALUE=DATE:20250713
DTEND;VALUE=DATE:20250714
DTSTAMP:20260424T104602
CREATED:20250311T191653Z
LAST-MODIFIED:20250311T191900Z
UID:10000208-1752364800-1752451199@www.oerhb.at
SUMMARY:Bundestrümmertraining
DESCRIPTION:Die Bundeseinsatzleitung lädt euch in enger Absprache mit dem Bundesausbildungsteam recht herzlich zu Bundestrümmertrainings ins Tritolwerk ein. Alle trümmeraffinen Mitglieder sind herzlich eingeladen. \nEs gibt keine Kriterien für die Teilnahme\, aber ACHTUNG begrenzte Teilnehmerzahl von 25 Personen.\nEs kann an nur einem oder auch an beiden Terminen teilgenommen werden. 2. Termin: Samstag\, 30. August 2025  \nDetails zur Veranstaltung findet ihr hier. \nDie Anmeldung ist hier ab 1.4.2025\, 8:00 Uhr möglich.
URL:https://www.oerhb.at/veranstaltung/bundestruemmertraining/
LOCATION:Tritolwerk\, Tritolstraße 15\, Eggendorf\, 2492\, Österreich
CATEGORIES:Bund
ATTACH;FMTTYPE=image/jpeg:/wp-content/uploads/2025/03/Tritol.jpg
ORGANIZER;CN="Bund BEL":MAILTO:bel@oerhb.at
END:VEVENT
BEGIN:VEVENT
DTSTART;VALUE=DATE:20250518
DTEND;VALUE=DATE:20250519
DTSTAMP:20260424T104602
CREATED:20250311T183600Z
LAST-MODIFIED:20250311T190125Z
UID:10000207-1747526400-1747612799@www.oerhb.at
SUMMARY:AFDRU Recruiting Day
DESCRIPTION:Die Bundeseinsatzleitung lädt euch in enger Absprache mit dem Bundesausbildungsteam recht herzlich zu einem Informationstag über das AFDRU RESCUE DOG Team ein. Unter der Leitung von Anita Truschnig wird die Arbeit der AFDRU-Teams vorgestellt und die notwendigen Ausbildungen dafür erläutert. Alle Mitglieder\, welche an einer Ausbildung dahingehend interessiert sind\, sind herzlich eingeladen. \nDetails zur Veranstaltung findet ihr hier. \nDie Anmeldung ist hier ab 1.4.2025\, 8:00 Uhr möglich.\nAchtung: begrenzte Teilnehmerzahl von 25 Personen!
URL:https://www.oerhb.at/veranstaltung/afdru-recruiting-day/
LOCATION:Tritolwerk\, Tritolstraße 15\, Eggendorf\, 2492\, Österreich
CATEGORIES:Bund
ATTACH;FMTTYPE=image/jpeg:/wp-content/uploads/2025/03/Truemmerarbeit-23-1.jpg
ORGANIZER;CN="Bund BEL":MAILTO:bel@oerhb.at
END:VEVENT
BEGIN:VEVENT
DTSTART;VALUE=DATE:20241122
DTEND;VALUE=DATE:20241125
DTSTAMP:20260424T104602
CREATED:20240814T163910Z
LAST-MODIFIED:20240814T163910Z
UID:10000155-1732233600-1732492799@www.oerhb.at
SUMMARY:Einsatzleiter-Gehilfen-Kurs
DESCRIPTION:Die Bundeseinsatzleitung lädt euch herzlich zum Einsatzleiter-Gehilfen-Kurs im Ausbildungszentrum Gröbming ein. \nDer Lehrgang ist auf 11 Teilnehmer:innen beschränkt. Die Anzahl der Teilnehmer:innen aus den Bundesländern wird über einen Schlüssel nach den einsatzfähigen Mitgliedern je Landesgruppe errechnet. \nWeitere Infos können der Einladung zum Lehrgang entnommen werden. \nAnmeldung zum Lehrgang bitte per Email an bel@oerhb.at. Anmeldeschluss ist der 20.10.2024.
URL:https://www.oerhb.at/veranstaltung/einsatzleiter-gehilfen-kurs/
LOCATION:Bundesausbildungszentrum Gröbming\, Schulstraße 443\, Gröbming\, 8962\, Österreich
CATEGORIES:Bund
ATTACH;FMTTYPE=image/jpeg:/wp-content/uploads/2024/08/Einsatzleiter.jpg
ORGANIZER;CN="Bund BEL":MAILTO:bel@oerhb.at
END:VEVENT
BEGIN:VEVENT
DTSTART;VALUE=DATE:20240525
DTEND;VALUE=DATE:20240527
DTSTAMP:20260424T104602
CREATED:20231124T044832Z
LAST-MODIFIED:20231211T221912Z
UID:10000095-1716595200-1716767999@www.oerhb.at
SUMMARY:Gruppenkommandant:innen-Lehrgang (Teil 3)
DESCRIPTION:Der Lehrgang ist in erster Linie für Helfer: innen in der ÖRHB gedacht und sollte\, wenn möglich\, auch nur von diesen besucht werden.\nDie Voraussetzungen für eine Teilnahme sind: 2 Jahre Vollmitglied in der ÖRHB bis zu Zeitpunkt der Prüfung.\nDer Lehrgang ist auf 16 Teilnehmer:innen beschränkt und wird über den Schlüssel nach den einsatzfähigen Mitgliedern je Bundesland berechnet. Die Anmeldung erfolgt über die jeweiligen Landesleitungen. Anmeldeschluss ist der 24. Februar 2024.
URL:https://www.oerhb.at/veranstaltung/gruppenkommandantinnen-lehrgang-teil-3/
LOCATION:Bundesausbildungszentrum Gröbming\, Schulstraße 443\, Gröbming\, 8962\, Österreich
CATEGORIES:Bund
ATTACH;FMTTYPE=image/jpeg:/wp-content/uploads/2023/11/gruppenkommandant-web-scaled-e1707824869677.jpg
ORGANIZER;CN="Bund BEL":MAILTO:bel@oerhb.at
END:VEVENT
BEGIN:VEVENT
DTSTART;VALUE=DATE:20240427
DTEND;VALUE=DATE:20240429
DTSTAMP:20260424T104602
CREATED:20231124T044852Z
LAST-MODIFIED:20231211T222007Z
UID:10000094-1714176000-1714348799@www.oerhb.at
SUMMARY:Gruppenkommandant:innen-Lehrgang (Teil 2)
DESCRIPTION:Der Lehrgang ist in erster Linie für Helfer: innen in der ÖRHB gedacht und sollte\, wenn möglich\, auch nur von diesen besucht werden.\nDie Voraussetzungen für eine Teilnahme sind: 2 Jahre Vollmitglied in der ÖRHB bis zu Zeitpunkt der Prüfung.\nDer Lehrgang ist auf 16 Teilnehmer:innen beschränkt und wird über den Schlüssel nach den einsatzfähigen Mitgliedern je Bundesland berechnet. Die Anmeldung erfolgt über die jeweiligen Landesleitungen. Anmeldeschluss ist der 24. Februar 2024.
URL:https://www.oerhb.at/veranstaltung/gruppenkommandantinnen-lehrgang-teil-2/
LOCATION:Bundesausbildungszentrum Gröbming\, Schulstraße 443\, Gröbming\, 8962\, Österreich
CATEGORIES:Bund
ATTACH;FMTTYPE=image/jpeg:/wp-content/uploads/2023/11/gruppenkommandant-web-scaled-e1707824869677.jpg
ORGANIZER;CN="Bund BEL":MAILTO:bel@oerhb.at
END:VEVENT
BEGIN:VEVENT
DTSTART;VALUE=DATE:20240316
DTEND;VALUE=DATE:20240318
DTSTAMP:20260424T104602
CREATED:20231124T044911Z
LAST-MODIFIED:20231211T222709Z
UID:10000093-1710547200-1710719999@www.oerhb.at
SUMMARY:Gruppenkommandant:innen-Lehrgang (Teil 1)
DESCRIPTION:Der Lehrgang ist in erster Linie für Helfer: innen in der ÖRHB gedacht und sollte\, wenn möglich\, auch nur von diesen besucht werden.\nDie Voraussetzungen für eine Teilnahme sind: 2 Jahre Vollmitglied in der ÖRHB bis zu Zeitpunkt der Prüfung.\nDer Lehrgang ist auf 16 Teilnehmer:innen beschränkt und wird über den Schlüssel nach den einsatzfähigen Mitgliedern je Bundesland berechnet. Die Anmeldung erfolgt über die jeweiligen Landesleitungen. Anmeldeschluss ist der 24. Februar 2024.
URL:https://www.oerhb.at/veranstaltung/gruppenkommandantinnen-lehrgang-teil-1/
LOCATION:Bundesausbildungszentrum Gröbming\, Schulstraße 443\, Gröbming\, 8962\, Österreich
CATEGORIES:Bund
ATTACH;FMTTYPE=image/jpeg:/wp-content/uploads/2023/11/gruppenkommandant-web-scaled-e1707824869677.jpg
ORGANIZER;CN="Bund BEL":MAILTO:bel@oerhb.at
END:VEVENT
BEGIN:VEVENT
DTSTART;TZID=Europe/Vienna:20231010T193000
DTEND;TZID=Europe/Vienna:20231010T220000
DTSTAMP:20260424T104602
CREATED:20230926T124415Z
LAST-MODIFIED:20230926T124700Z
UID:10000087-1696966200-1696975200@www.oerhb.at
SUMMARY:Info-Schulung Fahrten mit Blaulicht
DESCRIPTION:Am 10. Oktober 2023 um 19:30 Uhr  wird es eine INFO- Schulung über Fahrten mit Blaulicht geben. \n\n\nVortragender ist Raffael KALT (LEL Kärnten) und diese Schulung wird über ein ZOOM- Meeting veranstaltet. \n\n\nDiese Schulung ist keine Berechtigung für Fahrten mit Blaulicht im Einsatz\, dass entscheidet die jeweilige Landesgruppe in seinem Bundesland selbst. \n\n\n  \n\n\nBitte bei der Anmeldung unbedingt die E-Mail-Adresse angeben\, damit der ZOOM- Link zeitgerecht ausgesendet werden kann. \n\n\n  \n\n 
URL:https://www.oerhb.at/veranstaltung/info-schulung-fahrten-mit-blaulicht/
LOCATION:Online
CATEGORIES:Bund
ORGANIZER;CN="Bund BEL":MAILTO:bel@oerhb.at
END:VEVENT
BEGIN:VEVENT
DTSTART;TZID=Europe/Vienna:20230923T100000
DTEND;TZID=Europe/Vienna:20230924T170000
DTSTAMP:20260424T104602
CREATED:20221215T091814Z
LAST-MODIFIED:20230113T103220Z
UID:10000018-1695463200-1695574800@www.oerhb.at
SUMMARY:Gruppenkommandant:innen Fortbildung
DESCRIPTION:Diese Fortbildung ist für Gruppenkommandant:innen gedacht\, deren Ausbildung länger als 2 Jahre zurück liegt. Kenntnisse in Karte und Kompass werden aufgefrischt und die Aufgaben der Gruppenkommandant:innen im Einsatz geschult. \nVoraussetzung ist eine abgeschlossene Gruppenkommandant:innen Ausbildung! \n 
URL:https://www.oerhb.at/veranstaltung/gruppenkommandantinnen-fortbildung/
LOCATION:Bundesausbildungszentrum Gröbming\, Schulstraße 443\, Gröbming\, 8962\, Österreich
CATEGORIES:Bund
ORGANIZER;CN="Bund BEL":MAILTO:bel@oerhb.at
END:VEVENT
BEGIN:VEVENT
DTSTART;TZID=Europe/Vienna:20230623T170000
DTEND;TZID=Europe/Vienna:20230625T140000
DTSTAMP:20260424T104602
CREATED:20221215T090951Z
LAST-MODIFIED:20230513T120819Z
UID:10000016-1687539600-1687701600@www.oerhb.at
SUMMARY:Bundeseinsatzübung
DESCRIPTION:Dieses Jahr findet die Bundeseinsatzübung im Auseerland statt.  Helfer:innen und Hundeführer:innen können mit der Übung ihre Einsatzfähigkeit erlangen bzw. verlängern. \nAnreise bitte am Freitag 23.6.bis 17:00 Uhr. Treffpunkt: Altausseerstrasse 353\, 8990 Bad Aussee\, Parkplatz hinter der Feuerwehr. Bei Anbruch der Dunkelheit beginnen wir mit der Nachtwegsuche (1 bis 5 km). Am Samstag erwarten euch zwei Tagwegsuche (1 bis 5 km) und am Sonntag findet noch eine Fächensuche statt.  \nDie Teilnehmeranzahl wird auf 50 Personen begrenzt. Es werden aber nicht nur Mitglieder benötigt\, die an der Übung aktiv teilnehmen wollen\, sondern auch Mitglieder die uns als Verstecksperson zu Verfügung stehen wollen.  \nDa die Übung dieses Mal sehr einsatznahe geplant ist (Kein Stationsbetrieb!!!)\, bitte die komplette Ausrüstung\, wie auch für einem Einsatz mitnehmen (Funkgeräte\, GPS- Gerät\, schwarze knöchelhohe Schuhe\, Ausrüstung für die Nachtsuche\, usw.)\, genauso einen Maulkorb für eure Hunde und gute Laune. \nBitte um die Unterkunft und Verpflegung selbst kümmern. Das gemeinsame Abendessen am Samstag Abend bezahlt die Bundesleitung.  \n 
URL:https://www.oerhb.at/veranstaltung/bundeseinsatzuebung/
LOCATION:Feuerwehr Bad Aussee\, Altausseerstrasse 353\,\, Bad Aussee\, 8990\, Österreich
CATEGORIES:Bund
ORGANIZER;CN="Bund BEL":MAILTO:bel@oerhb.at
END:VEVENT
BEGIN:VEVENT
DTSTART;TZID=Europe/Vienna:20230519T100000
DTEND;TZID=Europe/Vienna:20230521T170000
DTSTAMP:20260424T104602
CREATED:20221212T162607Z
LAST-MODIFIED:20230403T084959Z
UID:10000013-1684490400-1684688400@www.oerhb.at
SUMMARY:Einsatzleitergehilfen Schulung
DESCRIPTION:Diese Schulung ist für Einsatzleiter:innen und Stellvertreter:innen gedacht. Neben den rechtlichen Rahmenbedingungen für den Einsatz werden auch die Möglichkeiten für die Abwicklung eines Einsatzes theoretisch geschult und praktisch geübt. \nVoraussetzung für den Kurs ist ein positiv absolvierter Gruppenkommandanten- Kurs und die Tätigkeit als Landeseinsatzleiter oder Stv. \n14 Kursplätze sind dafür vorhanden\, 2 für jede Landesgruppe. \nBitte um die Unterkunft selbst kümmern. \n 
URL:https://www.oerhb.at/veranstaltung/einsatzleitergehilfen-schulung/
LOCATION:Bundesausbildungszentrum Gröbming\, Schulstraße 443\, Gröbming\, 8962\, Österreich
CATEGORIES:Bund
ATTACH;FMTTYPE=image/jpeg:/wp-content/uploads/2023/01/Headerbild_Einsatzleiter.jpg
ORGANIZER;CN="Bund BEL":MAILTO:bel@oerhb.at
END:VEVENT
BEGIN:VEVENT
DTSTART;TZID=Europe/Vienna:20230311T100000
DTEND;TZID=Europe/Vienna:20230311T180000
DTSTAMP:20260424T104602
CREATED:20230125T164912Z
LAST-MODIFIED:20230125T165118Z
UID:10000029-1678528800-1678557600@www.oerhb.at
SUMMARY:Landeseinsatzleiter Treffen
DESCRIPTION:Dieses Treffen ist nur für Einsatzleiter:innen und Stellvertreter:innen! \nEs werden folgende Themen behandelt: \n\nNeue Ausrüstung\nBlaulicht- Schulung ÖAMTC\nEinsatzleitergehilfen- Schulung im kommenden Mai\nBundeseinsatz- Alarmierungen\nFunk\n\nBitte in Uniform teilnehmen!
URL:https://www.oerhb.at/veranstaltung/landeseinsatzleiter-treffen/
LOCATION:Bundesausbildungszentrum Gröbming\, Schulstraße 443\, Gröbming\, 8962\, Österreich
CATEGORIES:Bund
ORGANIZER;CN="Bund BEL":MAILTO:bel@oerhb.at
END:VEVENT
END:VCALENDAR