BEGIN:VCALENDAR
VERSION:2.0
PRODID:-//ÖRHB - ECPv6.15.18//NONSGML v1.0//EN
CALSCALE:GREGORIAN
METHOD:PUBLISH
X-ORIGINAL-URL:https://www.oerhb.at
X-WR-CALDESC:Veranstaltungen für ÖRHB
REFRESH-INTERVAL;VALUE=DURATION:PT1H
X-Robots-Tag:noindex
X-PUBLISHED-TTL:PT1H
BEGIN:VTIMEZONE
TZID:Europe/Vienna
BEGIN:DAYLIGHT
TZOFFSETFROM:+0100
TZOFFSETTO:+0200
TZNAME:CEST
DTSTART:20220327T010000
END:DAYLIGHT
BEGIN:STANDARD
TZOFFSETFROM:+0200
TZOFFSETTO:+0100
TZNAME:CET
DTSTART:20221030T010000
END:STANDARD
BEGIN:DAYLIGHT
TZOFFSETFROM:+0100
TZOFFSETTO:+0200
TZNAME:CEST
DTSTART:20230326T010000
END:DAYLIGHT
BEGIN:STANDARD
TZOFFSETFROM:+0200
TZOFFSETTO:+0100
TZNAME:CET
DTSTART:20231029T010000
END:STANDARD
BEGIN:DAYLIGHT
TZOFFSETFROM:+0100
TZOFFSETTO:+0200
TZNAME:CEST
DTSTART:20240331T010000
END:DAYLIGHT
BEGIN:STANDARD
TZOFFSETFROM:+0200
TZOFFSETTO:+0100
TZNAME:CET
DTSTART:20241027T010000
END:STANDARD
BEGIN:DAYLIGHT
TZOFFSETFROM:+0100
TZOFFSETTO:+0200
TZNAME:CEST
DTSTART:20250330T010000
END:DAYLIGHT
BEGIN:STANDARD
TZOFFSETFROM:+0200
TZOFFSETTO:+0100
TZNAME:CET
DTSTART:20251026T010000
END:STANDARD
BEGIN:DAYLIGHT
TZOFFSETFROM:+0100
TZOFFSETTO:+0200
TZNAME:CEST
DTSTART:20260329T010000
END:DAYLIGHT
BEGIN:STANDARD
TZOFFSETFROM:+0200
TZOFFSETTO:+0100
TZNAME:CET
DTSTART:20261025T010000
END:STANDARD
END:VTIMEZONE
BEGIN:VEVENT
DTSTART;VALUE=DATE:20250320
DTEND;VALUE=DATE:20250324
DTSTAMP:20260424T104805
CREATED:20241103T080100Z
LAST-MODIFIED:20250202T083217Z
UID:10000165-1742428800-1742774399@www.oerhb.at
SUMMARY:Bundeswinterlehrgang
DESCRIPTION:Die Bundesausbildung lädt euch herzlich zum Bundeswinterlehrgang 2025 ein. Wir haben wieder einiges für euch vorbereitet und freuen uns sehr auf aktive Teilnahme! Wir hoffen auf eine gute Schneelage und freuen uns auf tolle Tage mit euch! \nEinladung Bundeswinterlehrgang 2025 \nAnmeldeschluss: 1.3.2025
URL:https://www.oerhb.at/veranstaltung/bundeswinterlehrgang/
LOCATION:Gasthof Rieseralm\, Granitzen 31\, Obdach\, 8742
CATEGORIES:Bund
ATTACH;FMTTYPE=image/jpeg:/wp-content/uploads/2024/11/Wintertraining1.jpg
ORGANIZER;CN="Bundesausbildung":MAILTO:bar@oerhb.at
END:VEVENT
BEGIN:VEVENT
DTSTART;VALUE=DATE:20240810
DTEND;VALUE=DATE:20240812
DTSTAMP:20260424T104805
CREATED:20240513T141630Z
LAST-MODIFIED:20240514T134030Z
UID:10000146-1723248000-1723420799@www.oerhb.at
SUMMARY:Bundeswasserlehrgang - Fortgeschrittene
DESCRIPTION:Die Bundesausbildung lädt euch herzlich zum Wasserworkshop 2024 für Fortgeschrittene ein. \nWeitere Infos können der Einladung zum Workshop entnommen werden. \nDie Anmeldung ist hier von 17.5. bis 30.6.2024 möglich.
URL:https://www.oerhb.at/veranstaltung/bundeswasserlehrgang-fortgeschrittene/
LOCATION:Faaker See\, Seeufer-Landesstraße\, Faak am See\, Kärnten\, 9583\, Österreich
CATEGORIES:Bund
ATTACH;FMTTYPE=image/jpeg:/wp-content/uploads/2024/05/wasserworkshop.jpg
ORGANIZER;CN="Bundesausbildung":MAILTO:bar@oerhb.at
END:VEVENT
BEGIN:VEVENT
DTSTART;VALUE=DATE:20240808
DTEND;VALUE=DATE:20240810
DTSTAMP:20260424T104805
CREATED:20240513T141339Z
LAST-MODIFIED:20240514T134151Z
UID:10000145-1723075200-1723247999@www.oerhb.at
SUMMARY:Bundeswasserlehrgang - Anfänger
DESCRIPTION:Die Bundesausbildung lädt euch herzlich zum Wasserworkshop 2024 für Anfänger ein. \nWeitere Infos können der Einladung zum Wasserworkshop entnommen werden. \nDie Anmeldung ist hier von 17.5. bis 30.6.2024 möglich.
URL:https://www.oerhb.at/veranstaltung/bundeswasserlehrgang-anfaenger/
LOCATION:Faaker See\, Seeufer-Landesstraße\, Faak am See\, Kärnten\, 9583\, Österreich
CATEGORIES:Bund
ATTACH;FMTTYPE=image/jpeg:/wp-content/uploads/2024/05/wasserworkshop.jpg
ORGANIZER;CN="Bundesausbildung":MAILTO:bar@oerhb.at
END:VEVENT
BEGIN:VEVENT
DTSTART;VALUE=DATE:20240720
DTEND;VALUE=DATE:20240722
DTSTAMP:20260424T104805
CREATED:20240619T164940Z
LAST-MODIFIED:20240619T165500Z
UID:10000152-1721433600-1721606399@www.oerhb.at
SUMMARY:Thermik-Seminar
DESCRIPTION:Die Bundesausbildung lädt euch herzlich zu einem Spezialseminar zum Thema „Thermik“ ein. \nWeitere Infos können der Einladung zum Lehrgang entnommen werden. \nAnmeldung zum Lehrgang bitte per Email an bar@oerhb.at.
URL:https://www.oerhb.at/veranstaltung/thermik-seminar/
LOCATION:ÖRHB Staffelplatz Knittelfeld\, Leisingbichlweg 1\, St. Marein\, 8733\, Österreich
CATEGORIES:Bund
ATTACH;FMTTYPE=image/jpeg:/wp-content/uploads/2024/06/thermikseminar2.jpg
ORGANIZER;CN="Bundesausbildung":MAILTO:bar@oerhb.at
END:VEVENT
BEGIN:VEVENT
DTSTART;VALUE=DATE:20240719
DTEND;VALUE=DATE:20240722
DTSTAMP:20260424T104805
CREATED:20240513T142220Z
LAST-MODIFIED:20240517T185852Z
UID:10000147-1721347200-1721606399@www.oerhb.at
SUMMARY:MODUL 3 und 4 für ÖRHB/ÖKV Trainer
DESCRIPTION:Die Bundesausbildung lädt euch herzlich zum Modul 3 und 4 für den ÖRHB/ÖKV Trainer ein. \nWeitere Infos können der Einladung zum Lehrgang entnommen werden. \nAnmeldung zum Lehrgang bitte per Email an bar@oerhb.at.
URL:https://www.oerhb.at/veranstaltung/modul-3-und-4-fuer-oerhb-oekv-trainer/
LOCATION:ÖRHB Staffelplatz Knittelfeld\, Leisingbichlweg 1\, St. Marein\, 8733\, Österreich
CATEGORIES:Bund
ATTACH;FMTTYPE=image/jpeg:/wp-content/uploads/2024/05/Unterordnung1.jpg
ORGANIZER;CN="Bundesausbildung":MAILTO:bar@oerhb.at
END:VEVENT
BEGIN:VEVENT
DTSTART;VALUE=DATE:20240531
DTEND;VALUE=DATE:20240603
DTSTAMP:20260424T104805
CREATED:20231128T055454Z
LAST-MODIFIED:20240509T120420Z
UID:10000098-1717113600-1717372799@www.oerhb.at
SUMMARY:Bundeseinsatzübung
DESCRIPTION:Von 31. Mai bis 2. Juni findet die alljährliche Bundeseinsatzübung in St. Stefan ob Leoben statt. Parallel dazu wird der Bundesflächenlehrgang veranstaltet. \nWeitere Infos können der Einladung zur Einsatzübung entnommen werden. \nEine Anmeldung zur Bundeseinsatzübungn ist dann erforderlich\, wenn an der kompletten Übung teilgenommen wird. Bei teilweiser Teilnahme bitte die entsprechenden Checkboxen bei der Anmeldung zum Bundesflächenlehrgang anklicken. Vielen Dank! \nAnmeldeschluss ist der 12. Mai 2024. \n 
URL:https://www.oerhb.at/veranstaltung/bundeseinsatzuebung-2/
LOCATION:St.Stefan ob Leoben\, Festwald\, Murwaldsiedlung 39\, St. Stefan ob Leoben\, Steiermark\, 8713\, Österreich
CATEGORIES:Bund
ATTACH;FMTTYPE=image/jpeg:/wp-content/uploads/2023/07/IMG_4862-scaled.jpg
ORGANIZER;CN="Bundesausbildung":MAILTO:bar@oerhb.at
END:VEVENT
BEGIN:VEVENT
DTSTART;VALUE=DATE:20240530
DTEND;VALUE=DATE:20240603
DTSTAMP:20260424T104805
CREATED:20231128T054903Z
LAST-MODIFIED:20240401T135736Z
UID:10000097-1717027200-1717372799@www.oerhb.at
SUMMARY:Bundesflächenlehrgang
DESCRIPTION:Von 30. Mai bis 2. Juni findet der alljährliche Bundesflächenlehrgang in St. Stefan ob Leoben statt. Parallel dazu wird die Bundeseinsatzübung veranstaltet. \nWeitere Infos können der Einladung zum Lehrgang entnommen werden. \nAnmeldeschluss ist der 1. April 2024.
URL:https://www.oerhb.at/veranstaltung/bundesflaechenlehrgang-2/
LOCATION:St.Stefan ob Leoben\, Festwald\, Murwaldsiedlung 39\, St. Stefan ob Leoben\, Steiermark\, 8713\, Österreich
CATEGORIES:Bund
ATTACH;FMTTYPE=image/jpeg:/wp-content/uploads/2023/07/4B6A9613.jpg
ORGANIZER;CN="Bundesausbildung":MAILTO:bar@oerhb.at
END:VEVENT
BEGIN:VEVENT
DTSTART;VALUE=DATE:20230609
DTEND;VALUE=DATE:20230610
DTSTAMP:20260424T104805
CREATED:20221215T090746Z
LAST-MODIFIED:20230314T175835Z
UID:10000015-1686268800-1686355199@www.oerhb.at
SUMMARY:Bundestag
DESCRIPTION:Der Bundestag findet wieder im Rahmen des Bundesflächenlehrganges statt. \nWeitere Details folgen demnächst.
URL:https://www.oerhb.at/veranstaltung/bundestag/
LOCATION:St.Stefan ob Leoben\, Festwald\, Murwaldsiedlung 39\, St. Stefan ob Leoben\, Steiermark\, 8713\, Österreich
CATEGORIES:Bund
ORGANIZER;CN="Bundesausbildung":MAILTO:bar@oerhb.at
END:VEVENT
BEGIN:VEVENT
DTSTART;VALUE=DATE:20230608
DTEND;VALUE=DATE:20230612
DTSTAMP:20260424T104805
CREATED:20221215T090601Z
LAST-MODIFIED:20230123T224223Z
UID:10000014-1686182400-1686527999@www.oerhb.at
SUMMARY:Bundesflächenlehrgang
DESCRIPTION:Dieses Jahr findet der Bundesflächenlehrgang an einem neuen Veranstaltungsort statt. Austausch und gemeinsames Training über Bundesländer-Grenzen hinweg stehen im Fokus dieses Lehrganges. \nUnterkunft ist vorhanden und kostenpflichtig\, Camping im Außengelände möglich bzw. in der naheliegenden Turnhalle der Volksschule. \nHaftung:  jeder HF/H haftet für etwaige Schäden\, die durch ihn oder durch seinen Hund verursacht wurden\, selbst. \nMitzubringen: gesamte Einsatzausrüstung inkl. Helm\, Funkgerät\, Uniform\, schwarze Schuhe etc.\nund gute Laune!!!!
URL:https://www.oerhb.at/veranstaltung/bundesflaechenlehrgang/
LOCATION:St.Stefan ob Leoben\, Festwald\, Murwaldsiedlung 39\, St. Stefan ob Leoben\, Steiermark\, 8713\, Österreich
CATEGORIES:Bund
ORGANIZER;CN="Bundesausbildung":MAILTO:bar@oerhb.at
END:VEVENT
BEGIN:VEVENT
DTSTART;VALUE=DATE:20230309
DTEND;VALUE=DATE:20230313
DTSTAMP:20260424T104805
CREATED:20221212T160517Z
LAST-MODIFIED:20230306T080011Z
UID:10000011-1678320000-1678665599@www.oerhb.at
SUMMARY:Winterlehrgang
DESCRIPTION:Dieses Jahr wird es wieder einen Winterlehrgang geben.\nAnreise am Mittwoch\, Lehrgang ab Donnerstag. \nUnterkunft ist vorhanden und kostenpflichtig\, bitte bei der Anmeldung bekannt geben (im Feld Anmerkungen). Im Gasthof Rieseralm müssen die Hunde boxentauglich sein.  Es gibt in der Umgebung auch viele Almhütten/Ferienhäuser bzw. Gasthäuser in Obdach\, wo die Hunde auch in die Zimmer mitgenommen werden dürfen. \nMitzubringen: gesamte Einsatzausrüstung\, Funkgerät\, Uniform\, schwarze Schuhe etc.\nLawinenausrüstung wenn vorhanden und gute Laune!!!! \n Jeder HF/H haftet für etwaige Schäden\, die durch ihn oder durch seinen Hund verursacht wurden\, selbst.
URL:https://www.oerhb.at/veranstaltung/winterlehrgang/
LOCATION:Gasthof Rieseralm\, Granitzen 31\, Obdach\, 8742
CATEGORIES:Bund
ORGANIZER;CN="Bundesausbildung":MAILTO:bar@oerhb.at
END:VEVENT
END:VCALENDAR