BEGIN:VCALENDAR
VERSION:2.0
PRODID:-//ÖRHB - ECPv6.15.18//NONSGML v1.0//EN
CALSCALE:GREGORIAN
METHOD:PUBLISH
X-ORIGINAL-URL:https://www.oerhb.at
X-WR-CALDESC:Veranstaltungen für ÖRHB
REFRESH-INTERVAL;VALUE=DURATION:PT1H
X-Robots-Tag:noindex
X-PUBLISHED-TTL:PT1H
BEGIN:VTIMEZONE
TZID:Europe/Vienna
BEGIN:DAYLIGHT
TZOFFSETFROM:+0100
TZOFFSETTO:+0200
TZNAME:CEST
DTSTART:20220327T010000
END:DAYLIGHT
BEGIN:STANDARD
TZOFFSETFROM:+0200
TZOFFSETTO:+0100
TZNAME:CET
DTSTART:20221030T010000
END:STANDARD
BEGIN:DAYLIGHT
TZOFFSETFROM:+0100
TZOFFSETTO:+0200
TZNAME:CEST
DTSTART:20230326T010000
END:DAYLIGHT
BEGIN:STANDARD
TZOFFSETFROM:+0200
TZOFFSETTO:+0100
TZNAME:CET
DTSTART:20231029T010000
END:STANDARD
BEGIN:DAYLIGHT
TZOFFSETFROM:+0100
TZOFFSETTO:+0200
TZNAME:CEST
DTSTART:20240331T010000
END:DAYLIGHT
BEGIN:STANDARD
TZOFFSETFROM:+0200
TZOFFSETTO:+0100
TZNAME:CET
DTSTART:20241027T010000
END:STANDARD
BEGIN:DAYLIGHT
TZOFFSETFROM:+0100
TZOFFSETTO:+0200
TZNAME:CEST
DTSTART:20250330T010000
END:DAYLIGHT
BEGIN:STANDARD
TZOFFSETFROM:+0200
TZOFFSETTO:+0100
TZNAME:CET
DTSTART:20251026T010000
END:STANDARD
BEGIN:DAYLIGHT
TZOFFSETFROM:+0100
TZOFFSETTO:+0200
TZNAME:CEST
DTSTART:20260329T010000
END:DAYLIGHT
BEGIN:STANDARD
TZOFFSETFROM:+0200
TZOFFSETTO:+0100
TZNAME:CET
DTSTART:20261025T010000
END:STANDARD
END:VTIMEZONE
BEGIN:VEVENT
DTSTART;VALUE=DATE:20250405
DTEND;VALUE=DATE:20250406
DTSTAMP:20260424T142009
CREATED:20250226T165032Z
LAST-MODIFIED:20250226T165032Z
UID:10000204-1743811200-1743897599@www.oerhb.at
SUMMARY:BH-VT Sachkundennachweis
DESCRIPTION:Es wird es die Möglichkeit geben den Vortrag für den BH-VT Sachkundenachweis zu absolvieren. \nDatum: 05.04.2025 \nOrt: Staffel Villach \nZeit wird noch bekannt gegeben. \nAnmeldeschluss: 27.03.2025 23:30 Uhr \nBei Fragen steht das Landesausbildungsreferat zur Verfügung.
URL:https://www.oerhb.at/veranstaltung/bh-vt-sachkundennachweis-2/
LOCATION:Villach\, Kärnten\, Österreich
CATEGORIES:Kärnten
ORGANIZER;CN="Landesgruppe K%C3%A4rnten":MAILTO:lar-ktn@oerhb.at
END:VEVENT
BEGIN:VEVENT
DTSTART;TZID=Europe/Vienna:20250307T183000
DTEND;TZID=Europe/Vienna:20250307T200000
DTSTAMP:20260424T142009
CREATED:20250206T065750Z
LAST-MODIFIED:20250206T065750Z
UID:10000192-1741372200-1741377600@www.oerhb.at
SUMMARY:Landestag Kärnten
DESCRIPTION:Der Landestag der Österreichischen Rettungshundebrigade Landesgruppe Kärnten für das Geschäftsjahr 2024 findet am 07.03.2025 in Treffen im eduCARE statt. \nDatum: 07.03.2025 \nOrt: eduCARE\, Eichrainweg 7-9\, 9521 Treffen bei Villach \nUhrzeit: 18:30 Uhr \nDie Einladung an alle Mitglieder der Landesgruppe Kärnten erfolgt statutenkonform schriftlich. \nAuf das pünktliche und verlässliche Erscheinen der Mitglieder freut sich die Landesleitung. \nAnmeldung via Onlineformular möglich bis 28.02.2025
URL:https://www.oerhb.at/veranstaltung/landestag-kaernten-3/
LOCATION:Treffen bei Villach\, Kärnten\, Österreich
CATEGORIES:Kärnten
ORGANIZER;CN="Landesgruppe K%C3%A4rnten":MAILTO:lar-ktn@oerhb.at
END:VEVENT
BEGIN:VEVENT
DTSTART;VALUE=DATE:20250302
DTEND;VALUE=DATE:20250303
DTSTAMP:20260424T142009
CREATED:20250210T190412Z
LAST-MODIFIED:20250226T075758Z
UID:10000193-1740873600-1740959999@www.oerhb.at
SUMMARY:Erhebung ÖKV Leistungsheft
DESCRIPTION:Bitte um Abgabe der Daten für die Leistungshefte der Hunde\, die in der ÖRHB Landesgruppe Kärnten geführt werden. \nDanke für Eure Mithilfe! \nACHTUNG: Sollte mehr als 1 ÖKV Leistungsheft vorhanden sein\, bitte nach dem Absenden des Formulars\, die Seite aktualisieren und eine weitere Eingabe vornehmen und absenden.
URL:https://www.oerhb.at/veranstaltung/erhebung-oekv-leistungsheft/
CATEGORIES:Kärnten
ORGANIZER;CN="Landesgruppe K%C3%A4rnten":MAILTO:lar-ktn@oerhb.at
END:VEVENT
BEGIN:VEVENT
DTSTART;VALUE=DATE:20250208
DTEND;VALUE=DATE:20250209
DTSTAMP:20260424T142009
CREATED:20250110T111638Z
LAST-MODIFIED:20250110T112254Z
UID:10000188-1738972800-1739059199@www.oerhb.at
SUMMARY:1. Junghundeübung
DESCRIPTION:Junghundeübung der Österreichischen Rettungshundebrigade Landesgruppe Kärnten. \nDatum: 08.02.2025\, ganztägig \nOrt: Klagenfurt \nNäheres Infos folgen! \nAnmeldeschluss: 25.01.2025 \nAnmeldung für alle Hundeführer:innen und Helfer:innen – ACHTUNG: begrenzte Teilnehmerzahl! (10 H\, 20 HF bis IPO V) \nBei Fragen steht das Landesausbildungsreferat zur Verfügung.
URL:https://www.oerhb.at/veranstaltung/1-junghundeuebung/
LOCATION:Klagenfurt am Wörthersee\, Österreich
CATEGORIES:Kärnten
ORGANIZER;CN="Landesgruppe K%C3%A4rnten":MAILTO:lar-ktn@oerhb.at
END:VEVENT
BEGIN:VEVENT
DTSTART;VALUE=DATE:20250118
DTEND;VALUE=DATE:20250120
DTSTAMP:20260424T142009
CREATED:20241218T141053Z
LAST-MODIFIED:20241218T141053Z
UID:10000185-1737158400-1737331199@www.oerhb.at
SUMMARY:Landesübung - Orientierung & Funk
DESCRIPTION:Landesübung der Österreichischen Rettungshundebrigade Landesgruppe Kärnten mit Schwerpunkt Orientierung und Funk. \nDatum: Von 18.01. und 19.01.2025\, \nSamstag 09:00 Uhr bis ca. 17:00 Uhr \nSonntag 09:00 Uhr bis mittags \nOrt: Hauptfeuerwehrwache Villach\, Kasernengasse 3\, 9500 Villach \n  \nMitzubringen: Funk (sofern vorhanden)\, Kompass und Schreibzeug. \nDresscode: Uniform \nWeitere Infos können über das Landesausbildungsreferat erfragt werden. \nAnmeldeschluss 04.01.2025
URL:https://www.oerhb.at/veranstaltung/landesuebung-orientierung-funk/
LOCATION:Villach\, Kärnten\, Österreich
CATEGORIES:Kärnten
ORGANIZER;CN="Landesgruppe K%C3%A4rnten":MAILTO:lar-ktn@oerhb.at
END:VEVENT
BEGIN:VEVENT
DTSTART;VALUE=DATE:20250118
DTEND;VALUE=DATE:20250119
DTSTAMP:20260424T142009
CREATED:20241218T142546Z
LAST-MODIFIED:20241218T142546Z
UID:10000186-1737158400-1737244799@www.oerhb.at
SUMMARY:Vortrag zum Thema Umgang mit Totfund
DESCRIPTION:Veranstaltung der Österreichischen Rettungshundebrigade Landesgruppe Kärnten \nGast Herr Ewald Müller\n18.01.2025\nBeginn: 17:30 Uhr \nOrt: Hauptfeuerwehrwache Villach\, Kasernengasse 3\, 9500 Villach \nWeitere Infos können über das Landesausbildungsreferat erfragt werden. \nAnmeldeschluss 04.01.2025
URL:https://www.oerhb.at/veranstaltung/vortrag-zum-thema-umgang-mit-totfund/
LOCATION:Villach\, Kärnten\, Österreich
CATEGORIES:Kärnten
ORGANIZER;CN="Landesgruppe K%C3%A4rnten":MAILTO:lar-ktn@oerhb.at
END:VEVENT
BEGIN:VEVENT
DTSTART;VALUE=DATE:20241109
DTEND;VALUE=DATE:20241110
DTSTAMP:20260424T142009
CREATED:20241003T161343Z
LAST-MODIFIED:20241003T161343Z
UID:10000160-1731110400-1731196799@www.oerhb.at
SUMMARY:5. Landesprüfung 2024 Kärnten
DESCRIPTION:Prüfung der Österreichischen Rettungshundebrigade Landesgruppe Kärnten. \nLeistungsrichter: Hans Moser \nPrüfungsleiterin: Christin Stotz \nOrt: Glantal \nDatum: 09.11.2024 \nIPO RH Fläche A \n!! IPO RH FLÄCHE V und B nur bei freien Plätzen !! \nAnmeldung online möglich bis 27.10.2024\, 23:30 Uhr \nNähere Informationen zur Veranstaltung werden zeitnah von der Landesausbildung bekannt gegeben.
URL:https://www.oerhb.at/veranstaltung/5-landespruefung-2024-kaernten/
LOCATION:Glantal\, Kärnten
CATEGORIES:Kärnten
ORGANIZER;CN="Landesgruppe K%C3%A4rnten":MAILTO:lar-ktn@oerhb.at
END:VEVENT
BEGIN:VEVENT
DTSTART;VALUE=DATE:20241025
DTEND;VALUE=DATE:20241028
DTSTAMP:20260424T142009
CREATED:20240924T071215Z
LAST-MODIFIED:20240924T071630Z
UID:10000159-1729814400-1730073599@www.oerhb.at
SUMMARY:4. Landesprüfung 2024 Kärnten
DESCRIPTION:Prüfung der Österreichischen Rettungshundebrigade Landesgruppe Kärnten. \nLeistungsrichter: Klaus Herzog \nPrüfungsleiterin: Christin Stotz \nOrt: Finkenstein \nDatum: 25. – 27.10.2024 \nIPO RH Fläche V\, A\, B\nIPO RH Trümmer V\, A\, B\nIBGH 1 – 3\nÖPO BH VT \nAnmeldung online möglich bis 10.10.2024\, 23:30 Uhr \nNähere Informationen zur Veranstaltung werden zeitnah von der Landesausbildung bekannt gegeben.
URL:https://www.oerhb.at/veranstaltung/4-landespruefung-2024-kaernten/
LOCATION:Marktgemeinde Finkenstein\, Österreich
CATEGORIES:Kärnten
ORGANIZER;CN="Landesgruppe K%C3%A4rnten":MAILTO:lar-ktn@oerhb.at
END:VEVENT
BEGIN:VEVENT
DTSTART;VALUE=DATE:20241019
DTEND;VALUE=DATE:20241020
DTSTAMP:20260424T142009
CREATED:20240902T081624Z
LAST-MODIFIED:20240924T071730Z
UID:10000157-1729296000-1729382399@www.oerhb.at
SUMMARY:Landesübung Kärnten
DESCRIPTION:Landesübung der Österreichischen Rettungshundebrigade Landesgruppe Kärnten. \nHELFERSCHULUNG \nDatum: 19.10.2024\, ganztägig \nOrt: Raum Villach \nDresscode: Uniform \nAnmeldeschluss: 05.10.2024 \nAnmeldung für alle Hundeführer:innen und Helfer:innen – ACHTUNG: begrenzte Teilnehmerzahl! (10 H\, 5 HF) \nBei Fragen steht das Landesausbildungsreferat zur Verfügung.
URL:https://www.oerhb.at/veranstaltung/landesuebung-kaernten-2/
LOCATION:Villach\, Kärnten\, Österreich
CATEGORIES:Kärnten
ORGANIZER;CN="Landesgruppe K%C3%A4rnten":MAILTO:lar-ktn@oerhb.at
END:VEVENT
BEGIN:VEVENT
DTSTART;VALUE=DATE:20240914
DTEND;VALUE=DATE:20240915
DTSTAMP:20260424T142009
CREATED:20240813T164115Z
LAST-MODIFIED:20240813T165649Z
UID:10000154-1726272000-1726358399@www.oerhb.at
SUMMARY:3. Landesprüfung 2024 Kärnten
DESCRIPTION:Prüfung der Österreichischen Rettungshundebrigade Landesgruppe Kärnten. \nLeistungsrichter: Andreas Hauk \nPrüfungsleiterin: Kirsten Kaltenegger \nOrt: Villach \nDatum: 14.09.2024 \nIPO RH Fläche V\, A\, B\nIPO RH Trümmer V\, A\, B\nIBGH 1 – 3\nÖPO BH VT \nAnmeldung online möglich bis 30.08.2024\, 23:30 Uhr \nNähere Informationen zur Veranstaltung werden zeitnah von der Landesausbildung bekannt gegeben.
URL:https://www.oerhb.at/veranstaltung/3-landespruefung-2024-kaernten/
LOCATION:Villach\, Kärnten\, Österreich
CATEGORIES:Kärnten
ORGANIZER;CN="Landesgruppe K%C3%A4rnten":MAILTO:lar-ktn@oerhb.at
END:VEVENT
BEGIN:VEVENT
DTSTART;VALUE=DATE:20240815
DTEND;VALUE=DATE:20240818
DTSTAMP:20260424T142009
CREATED:20240712T095547Z
LAST-MODIFIED:20240813T165253Z
UID:10000153-1723680000-1723939199@www.oerhb.at
SUMMARY:2. Landesprüfung 2024 Kärnten
DESCRIPTION:Prüfung der Österreichischen Rettungshundebrigade Landesgruppe Kärnten. \nLeistungsrichter: Christian Gruber \nPrüfungsleiterin: Kirsten Kaltenegger \nOrt: Glantal \nDatum: 15. – 16.08.2024 \nIPO RH Fläche V\, A\, B\nBH VT ÖPO \nDatum: 16. – 17.08.2024 \nÖRHB FL A\, B\, C \n(begrenzt auf 5 Plätze ÖRHB B und 3 Plätze ÖRHB C) \nAnmeldung online möglich bis 30.07.2024\, 23:30 Uhr \nNähere Informationen zur Veranstaltung werden zeitnah von der Landesausbildung bekannt gegeben.
URL:https://www.oerhb.at/veranstaltung/1-landespruefung-2024-kaernten-2/
LOCATION:Glantal\, Kärnten
CATEGORIES:Kärnten
ORGANIZER;CN="Landesgruppe K%C3%A4rnten":MAILTO:lar-ktn@oerhb.at
END:VEVENT
BEGIN:VEVENT
DTSTART;VALUE=DATE:20240726
DTEND;VALUE=DATE:20240728
DTSTAMP:20260424T142009
CREATED:20240129T085918Z
LAST-MODIFIED:20240614T085340Z
UID:10000133-1721952000-1722124799@www.oerhb.at
SUMMARY:Landeseinsatzübung Kärnten
DESCRIPTION:Landeseinsatzübung der Österreichischen Rettungshundebrigade Landesgruppe Kärnten. \nDatum: 26.07.2024 – 27.07.2024 \nProgramm lt. Vorgabe Bund. \nOrt: Atschalas – Klagenfurt \nAnmeldeschluss 12.07.2024 \nNähere Informationen zur Veranstaltung werden zeitnah vom Landeseinsatzleiter per Einladung ausgegeben. \n 
URL:https://www.oerhb.at/veranstaltung/landeseinsatzuebung-kaernten-3/
LOCATION:Kärnten\, Österreich
CATEGORIES:Kärnten
ORGANIZER;CN="Landesgruppe K%C3%A4rnten":MAILTO:lar-ktn@oerhb.at
END:VEVENT
BEGIN:VEVENT
DTSTART;TZID=Europe/Vienna:20240703T190000
DTEND;TZID=Europe/Vienna:20240703T220000
DTSTAMP:20260424T142009
CREATED:20240611T095734Z
LAST-MODIFIED:20240611T101834Z
UID:10000150-1720033200-1720044000@www.oerhb.at
SUMMARY:Vortrag Erste Hilfe am Hund  | mit Tierärztin Mag. Isabella Lesjak
DESCRIPTION:Am 03.07.2024 besucht uns Tierärztin Mag. Isabella Lesjak für einen Vortrag rund um Erste Hilfe am Hund. \nBeginn um 19:00 Uhr \nOrt: Staffel Villach \nAnmeldung bis 26.06.2024 möglich.
URL:https://www.oerhb.at/veranstaltung/vortrag-erste-hilfe-am-hund-mit-tieraerztin-mag-isabella-lesjak/
LOCATION:Villach\, Kärnten\, Österreich
CATEGORIES:Kärnten
ORGANIZER;CN="Landesgruppe K%C3%A4rnten":MAILTO:lar-ktn@oerhb.at
END:VEVENT
BEGIN:VEVENT
DTSTART;VALUE=DATE:20240623
DTEND;VALUE=DATE:20240624
DTSTAMP:20260424T142009
CREATED:20240429T063029Z
LAST-MODIFIED:20240429T063029Z
UID:10000143-1719100800-1719187199@www.oerhb.at
SUMMARY:Landesübung Junghundeführer:innen
DESCRIPTION:Landesübung mit dem Schwerpunkt Junghunde. \nDatum: 23.06.2024\, ganztägig \nOrt: Raum Villach \nMitzubringen: Genügend Leckerlis\, Wasser für die Hunde \nDresscode: Uniform \nAnmeldeschluss: 01.06.2024 \nAnmeldung als Hundeführer:in: bis maximal IPO V / ÖRHB FL A \nAnmeldung als Helfer:in: keine Beschränkungen \nBei Fragen steht das Landesausbildungsreferat zur Verfügung.
URL:https://www.oerhb.at/veranstaltung/landesuebung-junghundefuehrerinnen-4/
LOCATION:Villach\, Kärnten\, Österreich
CATEGORIES:Kärnten
ORGANIZER;CN="Landesgruppe K%C3%A4rnten":MAILTO:lar-ktn@oerhb.at
END:VEVENT
BEGIN:VEVENT
DTSTART;VALUE=DATE:20240622
DTEND;VALUE=DATE:20240623
DTSTAMP:20260424T142009
CREATED:20240429T063657Z
LAST-MODIFIED:20240429T064047Z
UID:10000144-1719014400-1719100799@www.oerhb.at
SUMMARY:Landesübung Kärnten
DESCRIPTION:Landesübung der Österreichischen Rettungshundebrigade Landesgruppe Kärnten. \nDatum: 22.06.2024\, ganztägig \nOrt: Raum Villach \nDresscode: Uniform \nAnmeldeschluss: 01.06.2024 \nAnmeldung für alle einsatzfähigen Hundeführer:innen und Helfer:innen \nBei Fragen steht das Landesausbildungsreferat zur Verfügung.
URL:https://www.oerhb.at/veranstaltung/landesuebung-kaernten/
LOCATION:Villach\, Kärnten\, Österreich
CATEGORIES:Kärnten
ORGANIZER;CN="Landesgruppe K%C3%A4rnten":MAILTO:lar-ktn@oerhb.at
END:VEVENT
BEGIN:VEVENT
DTSTART;VALUE=DATE:20240413
DTEND;VALUE=DATE:20240414
DTSTAMP:20260424T142009
CREATED:20240219T072455Z
LAST-MODIFIED:20240222T072913Z
UID:10000138-1712966400-1713052799@www.oerhb.at
SUMMARY:1. Landesprüfung 2024 Kärnten
DESCRIPTION:Prüfung der Österreichischen Rettungshundebrigade Landesgruppe Kärnten. \nLeistungsrichterin: Eva Berginc \nPrüfungsleiterin: Christin Stotz \nOrt: Feldkirchen \nDatum: 13.04.2024 \nIPO RH Fläche V\, A\, B \nBH VT ÖPO und IGP \nIBGH 1 – 3 (bei freien Plätzen) \nAnmeldung online möglich bis 29.03.2024. 23:30 Uhr \nNähere Informationen zur Veranstaltung werden zeitnah von der Landesausbildung bekannt gegeben.
URL:https://www.oerhb.at/veranstaltung/1-landespruefung-2024-kaernten/
LOCATION:Feldkirchen\, Kärnten\, Österreich
CATEGORIES:Kärnten
ORGANIZER;CN="Landesgruppe K%C3%A4rnten":MAILTO:lar-ktn@oerhb.at
END:VEVENT
BEGIN:VEVENT
DTSTART;VALUE=DATE:20240406
DTEND;VALUE=DATE:20240408
DTSTAMP:20260424T142009
CREATED:20240129T085800Z
LAST-MODIFIED:20240312T103622Z
UID:10000132-1712361600-1712534399@www.oerhb.at
SUMMARY:Landeseinsatzübung Kärnten
DESCRIPTION:Landeseinsatzübung der Österreichischen Rettungshundebrigade Landesgruppe Kärnten. \nDatum: 06.04.2024 – 07.04.2024 \nProgramm lt. Vorgabe Bund. \nNähere Informationen zur Veranstaltung werden zeitnah vom Landeseinsatzleiter per Einladung ausgegeben. \nAnmeldung bis 25.03.2024 möglich.
URL:https://www.oerhb.at/veranstaltung/landeseinsatzuebung-kaernten-2/
LOCATION:Kärnten\, Österreich
CATEGORIES:Kärnten
ORGANIZER;CN="Landesgruppe K%C3%A4rnten":MAILTO:lar-ktn@oerhb.at
END:VEVENT
BEGIN:VEVENT
DTSTART;TZID=Europe/Vienna:20240322T180000
DTEND;TZID=Europe/Vienna:20240322T200000
DTSTAMP:20260424T142009
CREATED:20240129T085454Z
LAST-MODIFIED:20240221T084308Z
UID:10000131-1711130400-1711137600@www.oerhb.at
SUMMARY:Landestag Kärnten
DESCRIPTION:Der Landestag der Österreichischen Rettungshundebrigade Landesgruppe Kärnten für das Geschäftsjahr 2023 findet am 22.03.2024 in Gödersdorf im Gasthaus Zollner statt. \nDatum: 22.03.2024 \nOrt: Hotel Restaurant Zollner\, Finkensteiner Straße 14\, 9585 Gödersdorf bei Villach \nUhrzeit: 18:00 Uhr \nDie Einladung an alle Mitglieder der Landesgruppe Kärnten erfolgt statutenkonform schriftlich. \nAuf das pünktliche und verlässliche Erscheinen der Mitglieder freut sich die Landesleitung. \nAnmeldung via Onlineformular möglich bis 15.03.2024
URL:https://www.oerhb.at/veranstaltung/landestag-kaernten-2/
LOCATION:Gödersdorf\, Kärnten
CATEGORIES:Kärnten
ORGANIZER;CN="Landesgruppe K%C3%A4rnten":MAILTO:lar-ktn@oerhb.at
END:VEVENT
BEGIN:VEVENT
DTSTART;VALUE=DATE:20240309
DTEND;VALUE=DATE:20240311
DTSTAMP:20260424T142009
CREATED:20240129T082610Z
LAST-MODIFIED:20240222T072800Z
UID:10000128-1709942400-1710115199@www.oerhb.at
SUMMARY:Landesübung - Funk\, Orientierung\, Karte
DESCRIPTION:Landesübung der Österreichischen Rettungshundebrigade Landesgruppe Kärnten mit Schwerpunkt Funk\, Orientierung und Karte. \nDatum: Von 09. – 10. März 2024\, Beginn 09:00 Uhr \nOrt: Hauptfeuerwehrwache Villach\, Kasernengasse 3\, 9500 Villach \nMitzubringen: Funk (sofern vorhanden)\, Kompass und Schreibzeug. Bitte am Handy die App „Bergfex“ herunterladen. \nDresscode: Uniform \nBei dieser Landesübung wird keine Hundearbeit angeboten\, daher bitte Hunde zu Hause lassen! \nWeitere Infos können über das Landesausbildungsreferat erfragt werden. \nAnmeldeschluss 24.02.2024
URL:https://www.oerhb.at/veranstaltung/landesuebung-funk-orientierung-karte/
LOCATION:Villach\, Kärnten\, Österreich
CATEGORIES:Kärnten
ORGANIZER;CN="Landesgruppe K%C3%A4rnten":MAILTO:lar-ktn@oerhb.at
END:VEVENT
BEGIN:VEVENT
DTSTART;VALUE=DATE:20240224
DTEND;VALUE=DATE:20240225
DTSTAMP:20260424T142009
CREATED:20240129T085004Z
LAST-MODIFIED:20240129T085057Z
UID:10000130-1708732800-1708819199@www.oerhb.at
SUMMARY:BH-VT Sachkundennachweis
DESCRIPTION:Im Anschluss der Junghunde-Landesübung wird es die Möglichkeit geben den Vortrag für den BH-VT Sachkundenachweis zu absolvieren. \nDatum: 24.02.2024 im Anschluss der Junghunde Landesübung \nOrt: Feuerwehr Radenthein \nAnmeldeschluss: 09.02.2024 \nBei Fragen steht das Landesausbildungsreferat zur Verfügung.
URL:https://www.oerhb.at/veranstaltung/bh-vt-sachkundennachweis/
LOCATION:Radenthein\, Kärnten
CATEGORIES:Kärnten
ORGANIZER;CN="Landesgruppe K%C3%A4rnten":MAILTO:lar-ktn@oerhb.at
END:VEVENT
BEGIN:VEVENT
DTSTART;VALUE=DATE:20240224
DTEND;VALUE=DATE:20240225
DTSTAMP:20260424T142009
CREATED:20240129T084116Z
LAST-MODIFIED:20240129T084116Z
UID:10000129-1708732800-1708819199@www.oerhb.at
SUMMARY:Landesübung Junghundeführer:innen
DESCRIPTION:Landesübung mit dem Schwerpunkt Junghunde. \nDatum: 24.02.2024\, 09:00 Uhr \nOrt: Radenthein \nTreffpunkt: SPAR Halle Radenthein \nMitzubringen: Genügend Leckerlis\, Wasser für die Hunde \nDresscode: Uniform \nAnmeldeschluss: 09.02.2024 \nAnmeldung als Hundeführer:in: bis maximal IPO V / ÖRHB FL A \nAnmeldung als Helfer:in: keine Beschränkungen \nBei Fragen steht das Landesausbildungsreferat zur Verfügung.
URL:https://www.oerhb.at/veranstaltung/landesuebung-junghundefuehrerinnen-3/
LOCATION:Radenthein\, Kärnten
CATEGORIES:Kärnten
ORGANIZER;CN="Landesgruppe K%C3%A4rnten":MAILTO:lar-ktn@oerhb.at
END:VEVENT
BEGIN:VEVENT
DTSTART;VALUE=DATE:20231202
DTEND;VALUE=DATE:20231204
DTSTAMP:20260424T142009
CREATED:20231102T133735Z
LAST-MODIFIED:20231110T072030Z
UID:10000092-1701475200-1701647999@www.oerhb.at
SUMMARY:Landesprüfung Kärnten
DESCRIPTION:Prüfung der Österreichischen Rettungshundebrigade Landesgruppe Kärnten. (Prüfungsrichten Kirsten Kaltenegger) \nLeistungsrichter: Klaus Herzog (Kirsten Kaltenegger) \nOrt: Finkenstein \nDatum: 02.12.2023 und 03.12.2023 \nIPO RH Fläche V\, A\, B \nIPO RH Trümmer V\, A\, B \nIPO RH Fährte V\, A\, B \nIPO BH \nÖPO BH \nIBGH 1 – 3 \nAnmeldung online möglich bis 19.11.2023. 23:30 Uhr \nNähere Informationen zur Veranstaltung werden zeitnah von der Landesausbildung bekannt gegeben.
URL:https://www.oerhb.at/veranstaltung/landespruefung-kaernten-6/
LOCATION:Kärnten\, Österreich
CATEGORIES:Kärnten
ORGANIZER;CN="Landesgruppe K%C3%A4rnten":MAILTO:lar-ktn@oerhb.at
END:VEVENT
BEGIN:VEVENT
DTSTART;VALUE=DATE:20231111
DTEND;VALUE=DATE:20231112
DTSTAMP:20260424T142009
CREATED:20231009T074343Z
LAST-MODIFIED:20231011T143436Z
UID:10000091-1699660800-1699747199@www.oerhb.at
SUMMARY:Landesprüfung Kärnten
DESCRIPTION:Prüfung der Österreichischen Rettungshundebrigade Landesgruppe Kärnten. \nLeistungsrichter: Hans Moser\nPrüfungsleiterin: Jasmin Gössinger \nOrt: Glantal \nDatum: 11.11.2023 \nIPO Fläche V\, A\, B \nAnmeldung online möglich bis 27.10.2023. 23:30 Uhr \nNähere Informationen zur Veranstaltung werden zeitnah von der Landesausbildung bekannt gegeben.
URL:https://www.oerhb.at/veranstaltung/landespruefung-kaernten-5/
LOCATION:Kärnten\, Österreich
CATEGORIES:Kärnten
ORGANIZER;CN="Landesgruppe K%C3%A4rnten":MAILTO:lar-ktn@oerhb.at
END:VEVENT
BEGIN:VEVENT
DTSTART;VALUE=DATE:20231014
DTEND;VALUE=DATE:20231016
DTSTAMP:20260424T142009
CREATED:20230829T160832Z
LAST-MODIFIED:20231002T110712Z
UID:10000085-1697241600-1697414399@www.oerhb.at
SUMMARY:Landesprüfung Kärnten
DESCRIPTION:Prüfung der Österreichischen Rettungshundebrigade Landesgruppe Kärnten. \nLeistungsrichter: Heinz Fischer\nPrüfungsleiterin: Christin Stotz \nOrt: Drautal \nDatum: 14.10.2023 – 15.10.2023 \nIPO Fläche V\, A\, B\nBH\, IBGH 1 – 3 \nAnmeldung online möglich bis 29.09.2023\, 23:30 Uhr \nNähere Informationen zur Veranstaltung werden zeitnah von der Landesausbildung bekannt gegeben.
URL:https://www.oerhb.at/veranstaltung/landespruefung-kaernten-4/
LOCATION:Kärnten\, Österreich
CATEGORIES:Kärnten
ORGANIZER;CN="Landesgruppe K%C3%A4rnten":MAILTO:lar-ktn@oerhb.at
END:VEVENT
BEGIN:VEVENT
DTSTART;TZID=Europe/Vienna:20230922T180000
DTEND;TZID=Europe/Vienna:20230922T200000
DTSTAMP:20260424T142009
CREATED:20230901T200632Z
LAST-MODIFIED:20230919T090618Z
UID:10000086-1695405600-1695412800@www.oerhb.at
SUMMARY:Vortrag: Jörg Rauer / Wolf-und Bär Experte
DESCRIPTION:Auf Grund von Termin Kollissionen wird der Termin in die Wintermonate verschoben.
URL:https://www.oerhb.at/veranstaltung/vortrag-joerg-rauer-wolf-und-baer-experte/
LOCATION:Afritz am See\, Österreich
CATEGORIES:Kärnten
ORGANIZER;CN="Landesgruppe K%C3%A4rnten":MAILTO:lar-ktn@oerhb.at
END:VEVENT
BEGIN:VEVENT
DTSTART;VALUE=DATE:20230916
DTEND;VALUE=DATE:20230918
DTSTAMP:20260424T142009
CREATED:20230811T061511Z
LAST-MODIFIED:20230830T043858Z
UID:10000084-1694822400-1694995199@www.oerhb.at
SUMMARY:Landesprüfung Kärnten
DESCRIPTION:Prüfung der Österreichischen Rettungshundebrigade Landesgruppe Kärnten. \nLeistungsrichter: Eva Berginc\nPrüfungsleiterin: Christin Stotz \nOrt: Finkenstein \nDatum: 16.09.2023 – 17.09.2023 \nIPO Fläche V\, A\, B\nIPO Trümmer V\, A\, B\nBH\, IBGH 1 – 3 \nAnmeldung online möglich bis 27.08.2023\, 23:30 Uhr \nNähere Informationen zur Veranstaltung werden zeitnah von der Landesausbildung bekannt gegeben.
URL:https://www.oerhb.at/veranstaltung/landespruefung-kaernten-3/
LOCATION:Kärnten\, Österreich
CATEGORIES:Kärnten
ORGANIZER;CN="Landesgruppe K%C3%A4rnten":MAILTO:lar-ktn@oerhb.at
END:VEVENT
BEGIN:VEVENT
DTSTART;TZID=Europe/Vienna:20230815T000000
DTEND;TZID=Europe/Vienna:20230815T000000
DTSTAMP:20260424T142009
CREATED:20230622T104055Z
LAST-MODIFIED:20230811T061746Z
UID:10000079-1692057600-1692057600@www.oerhb.at
SUMMARY:Warm up  | Cool down mit Zebedin Verena
DESCRIPTION:Am 15.08.2023 wird ein Vortrag und Übungen von Pet Physio Motion – Verena Zebedin am Ausbildungsplatz der Staffel Drautal stattfinden. \nGenaue Uhrzeit wird noch bekannt gegeben. \nAnmeldeschluss 01. August 2023.
URL:https://www.oerhb.at/veranstaltung/warm-up-cool-down-mit-zebedin-verena/
LOCATION:Drautal\, Österreich
CATEGORIES:Kärnten
ORGANIZER;CN="Landesgruppe K%C3%A4rnten":MAILTO:lar-ktn@oerhb.at
END:VEVENT
BEGIN:VEVENT
DTSTART;VALUE=DATE:20230814
DTEND;VALUE=DATE:20230816
DTSTAMP:20260424T142009
CREATED:20230718T064037Z
LAST-MODIFIED:20230726T171553Z
UID:10000080-1691971200-1692143999@www.oerhb.at
SUMMARY:Landesprüfung Kärnten
DESCRIPTION:Prüfung der Österreichischen Rettungshundebrigade Landesgruppe Kärnten. \nLeistungsrichter: Hans Moser\nPrüfungsleiterin: Jasmin Gössinger \nDatum: 14.08.2023 – 15.08.2023 \nÖRHB FL A\, B\, C \nAnmeldung online möglich bis 30.07.2023 23:30 Uhr \nNähere Informationen zur Veranstaltung werden zeitnah von der Landesausbildung bekannt gegeben.
URL:https://www.oerhb.at/veranstaltung/landespruefung-kaernten-2/
LOCATION:Kärnten\, Österreich
CATEGORIES:Kärnten
ORGANIZER;CN="Landesgruppe K%C3%A4rnten":MAILTO:lar-ktn@oerhb.at
END:VEVENT
BEGIN:VEVENT
DTSTART;TZID=Europe/Vienna:20230811T203000
DTEND;TZID=Europe/Vienna:20230812T160000
DTSTAMP:20260424T142009
CREATED:20230220T111048Z
LAST-MODIFIED:20230622T102909Z
UID:10000046-1691785800-1691856000@www.oerhb.at
SUMMARY:Landeseinsatzübung Kärnten
DESCRIPTION:Landeseinsatzübung der Österreichischen Rettungshundebrigade Landesgruppe Kärnten. \nBeginn: 11.08.2023 20:30 Uhr am Staffelplatz Glantal \nProgramm lt. Vorgabe Bund. \nNähere Informationen zur Veranstaltung werden zeitnah vom Landeseinsatzleiter per Einladung ausgegeben. \nAnmeldeschluss 03.08.2023
URL:https://www.oerhb.at/veranstaltung/landeseinsatzuebung-2/
LOCATION:Kärnten\, Österreich
CATEGORIES:Bund,Kärnten
ORGANIZER;CN="Landesgruppe K%C3%A4rnten":MAILTO:lar-ktn@oerhb.at
END:VEVENT
BEGIN:VEVENT
DTSTART;VALUE=DATE:20230603
DTEND;VALUE=DATE:20230604
DTSTAMP:20260424T142009
CREATED:20230515T055800Z
LAST-MODIFIED:20230529T110432Z
UID:10000078-1685750400-1685836799@www.oerhb.at
SUMMARY:Landesübung Junghundeführer:innen
DESCRIPTION:Am 03.06.2023 findet eine eigene Landesübung für Junghundeführer:innen statt. \nGenauer Veranstaltungsort und Uhrzeiten werden noch bekannt gegeben. \nAnmeldeschluss: 27.05.2023
URL:https://www.oerhb.at/veranstaltung/landesuebung-junghundefuehrerinnen-2/
CATEGORIES:Kärnten
ORGANIZER;CN="Landesgruppe K%C3%A4rnten":MAILTO:lar-ktn@oerhb.at
END:VEVENT
END:VCALENDAR