BEGIN:VCALENDAR
VERSION:2.0
PRODID:-//ÖRHB - ECPv6.15.18//NONSGML v1.0//EN
CALSCALE:GREGORIAN
METHOD:PUBLISH
X-WR-CALNAME:ÖRHB
X-ORIGINAL-URL:https://www.oerhb.at
X-WR-CALDESC:Veranstaltungen für ÖRHB
REFRESH-INTERVAL;VALUE=DURATION:PT1H
X-Robots-Tag:noindex
X-PUBLISHED-TTL:PT1H
BEGIN:VTIMEZONE
TZID:Europe/Vienna
BEGIN:DAYLIGHT
TZOFFSETFROM:+0100
TZOFFSETTO:+0200
TZNAME:CEST
DTSTART:20230326T010000
END:DAYLIGHT
BEGIN:STANDARD
TZOFFSETFROM:+0200
TZOFFSETTO:+0100
TZNAME:CET
DTSTART:20231029T010000
END:STANDARD
BEGIN:DAYLIGHT
TZOFFSETFROM:+0100
TZOFFSETTO:+0200
TZNAME:CEST
DTSTART:20240331T010000
END:DAYLIGHT
BEGIN:STANDARD
TZOFFSETFROM:+0200
TZOFFSETTO:+0100
TZNAME:CET
DTSTART:20241027T010000
END:STANDARD
BEGIN:DAYLIGHT
TZOFFSETFROM:+0100
TZOFFSETTO:+0200
TZNAME:CEST
DTSTART:20250330T010000
END:DAYLIGHT
BEGIN:STANDARD
TZOFFSETFROM:+0200
TZOFFSETTO:+0100
TZNAME:CET
DTSTART:20251026T010000
END:STANDARD
BEGIN:DAYLIGHT
TZOFFSETFROM:+0100
TZOFFSETTO:+0200
TZNAME:CEST
DTSTART:20260329T010000
END:DAYLIGHT
BEGIN:STANDARD
TZOFFSETFROM:+0200
TZOFFSETTO:+0100
TZNAME:CET
DTSTART:20261025T010000
END:STANDARD
BEGIN:DAYLIGHT
TZOFFSETFROM:+0100
TZOFFSETTO:+0200
TZNAME:CEST
DTSTART:20270328T010000
END:DAYLIGHT
BEGIN:STANDARD
TZOFFSETFROM:+0200
TZOFFSETTO:+0100
TZNAME:CET
DTSTART:20271031T010000
END:STANDARD
END:VTIMEZONE
BEGIN:VEVENT
DTSTART;VALUE=DATE:20260307
DTEND;VALUE=DATE:20260309
DTSTAMP:20260424T090915
CREATED:20260116T131144Z
LAST-MODIFIED:20260123T084733Z
UID:10000266-1772841600-1773014399@www.oerhb.at
SUMMARY:1. Landesprüfung OÖ
DESCRIPTION:Prüfungsstufen: \nBH-VT \nIPO V/A/B \nÖRHB V/A \n  \n 
URL:https://www.oerhb.at/veranstaltung/1-landespruefung-ooe/
LOCATION:Fischlham
CATEGORIES:Oberösterreich
ATTACH;FMTTYPE=image/jpeg:/wp-content/uploads/2025/03/20250328-OeRHB-1.-Landespruefung-023.jpg
ORGANIZER;CN="Landesgruppe Ober%C3%B6sterreich":MAILTO:lar-ooe@oerhb.at
END:VEVENT
BEGIN:VEVENT
DTSTART;VALUE=DATE:20251025
DTEND;VALUE=DATE:20251027
DTSTAMP:20260424T090915
CREATED:20250226T062804Z
LAST-MODIFIED:20250226T062804Z
UID:10000200-1761350400-1761523199@www.oerhb.at
SUMMARY:Landesprüfung 4/OÖ
DESCRIPTION:
URL:https://www.oerhb.at/veranstaltung/landespruefung-4-ooe/
LOCATION:Linz
CATEGORIES:Oberösterreich
ATTACH;FMTTYPE=image/jpeg:/wp-content/uploads/2023/07/Retter-Messe-2023.jpg
ORGANIZER;CN="Landesgruppe Ober%C3%B6sterreich":MAILTO:lar-ooe@oerhb.at
END:VEVENT
BEGIN:VEVENT
DTSTART;VALUE=DATE:20250920
DTEND;VALUE=DATE:20250922
DTSTAMP:20260424T090915
CREATED:20250226T062639Z
LAST-MODIFIED:20250813T172853Z
UID:10000199-1758326400-1758499199@www.oerhb.at
SUMMARY:Landesprüfung 3/OÖ
DESCRIPTION:
URL:https://www.oerhb.at/veranstaltung/landespruefung-3-ooe/
LOCATION:Vöcklabruck
CATEGORIES:Oberösterreich
ATTACH;FMTTYPE=image/jpeg:/wp-content/uploads/2023/07/Retter-Messe-2023.jpg
ORGANIZER;CN="Landesgruppe Ober%C3%B6sterreich":MAILTO:lar-ooe@oerhb.at
END:VEVENT
BEGIN:VEVENT
DTSTART;VALUE=DATE:20250905
DTEND;VALUE=DATE:20250908
DTSTAMP:20260424T090915
CREATED:20250226T062414Z
LAST-MODIFIED:20250810T094934Z
UID:10000198-1757030400-1757289599@www.oerhb.at
SUMMARY:Landesübung OÖ 2/2025
DESCRIPTION:
URL:https://www.oerhb.at/veranstaltung/landesuebung-ooe-2-2025/
LOCATION:Weyer
CATEGORIES:Oberösterreich
ATTACH;FMTTYPE=image/jpeg:/wp-content/uploads/2023/10/IMG_2387-scaled.jpeg
ORGANIZER;CN="Landesgruppe Ober%C3%B6sterreich":MAILTO:lar-ooe@oerhb.at
END:VEVENT
BEGIN:VEVENT
DTSTART;VALUE=DATE:20250529
DTEND;VALUE=DATE:20250601
DTSTAMP:20260424T090915
CREATED:20250226T062239Z
LAST-MODIFIED:20250405T065918Z
UID:10000197-1748476800-1748735999@www.oerhb.at
SUMMARY:Landesübung OÖ 1/2025
DESCRIPTION:
URL:https://www.oerhb.at/veranstaltung/landesuebung-ooe-1-2025/
LOCATION:Braunau
CATEGORIES:Oberösterreich
ATTACH;FMTTYPE=image/jpeg:/wp-content/uploads/2023/10/IMG_2387-scaled.jpeg
ORGANIZER;CN="Landesgruppe Ober%C3%B6sterreich":MAILTO:lar-ooe@oerhb.at
END:VEVENT
BEGIN:VEVENT
DTSTART;VALUE=DATE:20250426
DTEND;VALUE=DATE:20250428
DTSTAMP:20260424T090915
CREATED:20250226T061659Z
LAST-MODIFIED:20250226T062011Z
UID:10000196-1745625600-1745798399@www.oerhb.at
SUMMARY:Landesprüfung 2/OÖ
DESCRIPTION:
URL:https://www.oerhb.at/veranstaltung/landespruefung-2-ooe/
LOCATION:Linz
CATEGORIES:Oberösterreich
ATTACH;FMTTYPE=image/jpeg:/wp-content/uploads/2023/07/Retter-Messe-2023.jpg
ORGANIZER;CN="Landesgruppe Ober%C3%B6sterreich":MAILTO:lar-ooe@oerhb.at
END:VEVENT
BEGIN:VEVENT
DTSTART;VALUE=DATE:20250329
DTEND;VALUE=DATE:20250331
DTSTAMP:20260424T090915
CREATED:20250226T061401Z
LAST-MODIFIED:20250226T061929Z
UID:10000195-1743206400-1743379199@www.oerhb.at
SUMMARY:Landesprüfung 1/OÖ
DESCRIPTION:
URL:https://www.oerhb.at/veranstaltung/landespruefung-ooe/
LOCATION:Vöcklabruck
CATEGORIES:Oberösterreich
ATTACH;FMTTYPE=image/jpeg:/wp-content/uploads/2023/07/Retter-Messe-2023.jpg
ORGANIZER;CN="Landesgruppe Ober%C3%B6sterreich":MAILTO:lar-ooe@oerhb.at
END:VEVENT
BEGIN:VEVENT
DTSTART;VALUE=DATE:20241011
DTEND;VALUE=DATE:20241014
DTSTAMP:20260424T090915
CREATED:20240121T163120Z
LAST-MODIFIED:20240126T050000Z
UID:10000115-1728604800-1728863999@www.oerhb.at
SUMMARY:4. Landesprüfung OÖ 2024
DESCRIPTION:für genauere Details stehen ich Euch gerne zu Verfügung. \nLiebe Grüße \nClaudia Pankratz \nlpr-ooe@oerhb.at \n0676/9484727
URL:https://www.oerhb.at/veranstaltung/4-landespruefung-ooe-2024/
CATEGORIES:Oberösterreich
ATTACH;FMTTYPE=image/jpeg:/wp-content/uploads/2023/10/IMG_6075.jpeg
ORGANIZER;CN="Landesgruppe Ober%C3%B6sterreich":MAILTO:lar-ooe@oerhb.at
END:VEVENT
BEGIN:VEVENT
DTSTART;VALUE=DATE:20240927
DTEND;VALUE=DATE:20240930
DTSTAMP:20260424T090916
CREATED:20240121T163734Z
LAST-MODIFIED:20240126T050347Z
UID:10000117-1727395200-1727654399@www.oerhb.at
SUMMARY:2. Landesübung OÖ 2024
DESCRIPTION:für genauere Details stehen ich Euch gerne zu Verfügung. \nLiebe Grüße \nClaudia Pankratz \nlpr-ooe@oerhb.at \n0676/9484727
URL:https://www.oerhb.at/veranstaltung/2-landesuebung-ooe-2024/
CATEGORIES:Oberösterreich
ATTACH;FMTTYPE=image/jpeg:/wp-content/uploads/2023/10/IMG_2387-scaled.jpeg
ORGANIZER;CN="Landesgruppe Ober%C3%B6sterreich":MAILTO:lar-ooe@oerhb.at
END:VEVENT
BEGIN:VEVENT
DTSTART;VALUE=DATE:20240913
DTEND;VALUE=DATE:20240916
DTSTAMP:20260424T090916
CREATED:20240121T162939Z
LAST-MODIFIED:20240126T050419Z
UID:10000114-1726185600-1726444799@www.oerhb.at
SUMMARY:3. Landesprüfung OÖ 2024
DESCRIPTION:für genauere Details stehen ich Euch gerne zu Verfügung. \nLiebe Grüße \nClaudia Pankratz \nlpr-ooe@oerhb.at \n0676/9484727
URL:https://www.oerhb.at/veranstaltung/3-landespruefung-ooe-2024/
CATEGORIES:Oberösterreich
ATTACH;FMTTYPE=image/jpeg:/wp-content/uploads/2023/10/IMG_6075.jpeg
ORGANIZER;CN="Landesgruppe Ober%C3%B6sterreich":MAILTO:lar-ooe@oerhb.at
END:VEVENT
BEGIN:VEVENT
DTSTART;VALUE=DATE:20240524
DTEND;VALUE=DATE:20240527
DTSTAMP:20260424T090916
CREATED:20240121T162638Z
LAST-MODIFIED:20240126T050510Z
UID:10000113-1716508800-1716767999@www.oerhb.at
SUMMARY:2. Landesprüfung OÖ 2024
DESCRIPTION:für genauere Details stehen ich Euch gerne zu Verfügung. \nLiebe Grüße \nClaudia Pankratz \nlpr-ooe@oerhb.at \n0676/9484727
URL:https://www.oerhb.at/veranstaltung/2-landespruefung-ooe-2024/
CATEGORIES:Oberösterreich
ATTACH;FMTTYPE=image/jpeg:/wp-content/uploads/2023/10/IMG_6075.jpeg
ORGANIZER;CN="Landesgruppe Ober%C3%B6sterreich":MAILTO:lar-ooe@oerhb.at
END:VEVENT
BEGIN:VEVENT
DTSTART;VALUE=DATE:20240509
DTEND;VALUE=DATE:20240512
DTSTAMP:20260424T090916
CREATED:20240121T163603Z
LAST-MODIFIED:20240126T050545Z
UID:10000116-1715212800-1715471999@www.oerhb.at
SUMMARY:1. Landesübung OÖ 2024
DESCRIPTION:Unsere erste Landesübung 2024 findet in Alberdorf in der Riedmark satt. \n  \nFür weitere Details stehen ich Euch gerne zu Verfügung. \nLiebe Grüße \nClaudia Pankratz \nlpr-ooe@oerhb.at \n0676/9484727
URL:https://www.oerhb.at/veranstaltung/landesuebung-ooe-1-2024/
CATEGORIES:Oberösterreich
ATTACH;FMTTYPE=image/jpeg:/wp-content/uploads/2023/10/IMG_2387-scaled.jpeg
ORGANIZER;CN="Landesgruppe Ober%C3%B6sterreich":MAILTO:lar-ooe@oerhb.at
END:VEVENT
BEGIN:VEVENT
DTSTART;VALUE=DATE:20240322
DTEND;VALUE=DATE:20240325
DTSTAMP:20260424T090916
CREATED:20240121T161536Z
LAST-MODIFIED:20240126T050649Z
UID:10000112-1711065600-1711324799@www.oerhb.at
SUMMARY:1. Landesprüfung OÖ 2024
DESCRIPTION:für genauere Details stehen ich Euch gerne zu Verfügung. \nLiebe Grüße \nClaudia Pankratz \nlpr-ooe@oerhb.at \n0676/9484727
URL:https://www.oerhb.at/veranstaltung/1-landespruefung-ooe-2024/
CATEGORIES:Oberösterreich
ATTACH;FMTTYPE=image/jpeg:/wp-content/uploads/2023/10/IMG_6075.jpeg
ORGANIZER;CN="Landesgruppe Ober%C3%B6sterreich":MAILTO:lar-ooe@oerhb.at
END:VEVENT
END:VCALENDAR