BEGIN:VCALENDAR
VERSION:2.0
PRODID:-//ÖRHB - ECPv6.15.18//NONSGML v1.0//EN
CALSCALE:GREGORIAN
METHOD:PUBLISH
X-ORIGINAL-URL:https://www.oerhb.at
X-WR-CALDESC:Veranstaltungen für ÖRHB
REFRESH-INTERVAL;VALUE=DURATION:PT1H
X-Robots-Tag:noindex
X-PUBLISHED-TTL:PT1H
BEGIN:VTIMEZONE
TZID:Europe/Vienna
BEGIN:DAYLIGHT
TZOFFSETFROM:+0100
TZOFFSETTO:+0200
TZNAME:CEST
DTSTART:20220327T010000
END:DAYLIGHT
BEGIN:STANDARD
TZOFFSETFROM:+0200
TZOFFSETTO:+0100
TZNAME:CET
DTSTART:20221030T010000
END:STANDARD
BEGIN:DAYLIGHT
TZOFFSETFROM:+0100
TZOFFSETTO:+0200
TZNAME:CEST
DTSTART:20230326T010000
END:DAYLIGHT
BEGIN:STANDARD
TZOFFSETFROM:+0200
TZOFFSETTO:+0100
TZNAME:CET
DTSTART:20231029T010000
END:STANDARD
BEGIN:DAYLIGHT
TZOFFSETFROM:+0100
TZOFFSETTO:+0200
TZNAME:CEST
DTSTART:20240331T010000
END:DAYLIGHT
BEGIN:STANDARD
TZOFFSETFROM:+0200
TZOFFSETTO:+0100
TZNAME:CET
DTSTART:20241027T010000
END:STANDARD
END:VTIMEZONE
BEGIN:VEVENT
DTSTART;TZID=Europe/Vienna:20230729T100000
DTEND;TZID=Europe/Vienna:20230729T170000
DTSTAMP:20260424T105004
CREATED:20230720T141314Z
LAST-MODIFIED:20230720T143251Z
UID:10000081-1690624800-1690650000@www.oerhb.at
SUMMARY:Einladung zur Helferschulung der Landesgruppe Tirol
DESCRIPTION:Betreff: Einladung zur Helferschulung \nLiebe Kolleg*innen\, \nhiermit laden wir Carina und Michael euch herzlich zu unserer Helferschulung ein. \nDiese findet am Samstag\, 29.07.2023 in der Imster Staffelhütte\, 6460 Imst um 10:00 Uhr statt. \nTAGESORDUNG \n\neinfaches Funkgespräch\neingespieltes Funkgespräch\nKarte einnorden\nallgemeine Orientierung\nErste Hilfe (BAK-Kontrolle; stabile Seitenlage)\nMotivieren eines Hundes (spielen)\nAnzeigeübung mit Futterhund\nAnzeigeübung mit Spiel-\, Beutehund\nArbeiten mit einem Problem- oder Junghund\nAllgemeines Verhalten; Absprache mit HF\n\nAuf einen schönen und erlebnisreichen Tag mit euch freut sich Carina und Michael
URL:https://www.oerhb.at/veranstaltung/einladung-zur-helferschulung-der-landesgruppe-tirol/
LOCATION:ÖRHB Hundeplatz Imst / Tirol\, Österreich
CATEGORIES:Tirol
ORGANIZER;CN="Landesgruppe Tirol":MAILTO:ll-tirol@oerhb.at
END:VEVENT
BEGIN:VEVENT
DTSTART;VALUE=DATE:20230506
DTEND;VALUE=DATE:20230508
DTSTAMP:20260424T105004
CREATED:20230222T030730Z
LAST-MODIFIED:20230222T033206Z
UID:10000048-1683331200-1683503999@www.oerhb.at
SUMMARY:Landeseinsatzübung Tirol
DESCRIPTION:Landeseinsatzübung der Österreichischen Rettungshundebrigade Landesgruppe Tirol. \nNähere Informationen zur Veranstaltungen werden zeitnah vom Landeseinsatzleiter per Einladung ausgegeben.
URL:https://www.oerhb.at/veranstaltung/landeseinsatzuebung-tirol-2/
LOCATION:ÖRHB Hundeplatz Imst / Tirol\, Österreich
CATEGORIES:Bund,Tirol
ORGANIZER;CN="Landesgruppe Tirol":MAILTO:ll-tirol@oerhb.at
END:VEVENT
BEGIN:VEVENT
DTSTART;VALUE=DATE:20230422
DTEND;VALUE=DATE:20230423
DTSTAMP:20260424T105004
CREATED:20230222T033804Z
LAST-MODIFIED:20230222T052405Z
UID:10000052-1682121600-1682207999@www.oerhb.at
SUMMARY:Landeslehrgang Tirol
DESCRIPTION:Landesübung/Lehrgang der Österreichischen Rettungshundebrigade Landesgruppe Tirol. \nNähere Informationen zur Veranstaltungen werden zeitnah vom Landeseinsatzleiter per Einladung ausgegeben.
URL:https://www.oerhb.at/veranstaltung/landeslehrgang-tirol-2/
LOCATION:SVÖ Hundeplatz Zirl / Tirol\, Österreich
CATEGORIES:Bund,Tirol
ORGANIZER;CN="Landesgruppe Tirol":MAILTO:ll-tirol@oerhb.at
END:VEVENT
BEGIN:VEVENT
DTSTART;VALUE=DATE:20230414
DTEND;VALUE=DATE:20230416
DTSTAMP:20260424T105004
CREATED:20230222T030346Z
LAST-MODIFIED:20230222T033244Z
UID:10000047-1681430400-1681603199@www.oerhb.at
SUMMARY:Landeseinsatzübung Tirol
DESCRIPTION:Landeseinsatzübung der Österreichischen Rettungshundebrigade Landesgruppe Tirol. \nNähere Informationen zur Veranstaltungen werden zeitnah vom Landeseinsatzleiter per Einladung ausgegeben.
URL:https://www.oerhb.at/veranstaltung/landeseinsatzuebung-tirol/
LOCATION:ÖRHB Hundeplatz Imst / Tirol\, Österreich
CATEGORIES:Bund,Tirol
ORGANIZER;CN="Landesgruppe Tirol":MAILTO:ll-tirol@oerhb.at
END:VEVENT
BEGIN:VEVENT
DTSTART;VALUE=DATE:20230325
DTEND;VALUE=DATE:20230326
DTSTAMP:20260424T105004
CREATED:20230222T031546Z
LAST-MODIFIED:20230222T052427Z
UID:10000050-1679702400-1679788799@www.oerhb.at
SUMMARY:Landeslehrgang Tirol
DESCRIPTION:Landeslehrgang der Österreichischen Rettungshundebrigade Landesgruppe Tirol. \nNähere Informationen zur Veranstaltungen werden zeitnah vom Landeseinsatzleiter per Einladung ausgegeben.
URL:https://www.oerhb.at/veranstaltung/landeslehrgang-tirol/
LOCATION:SVÖ Hundeplatz Zirl / Tirol\, Österreich
CATEGORIES:Bund,Tirol
ORGANIZER;CN="Landesgruppe Tirol":MAILTO:ll-tirol@oerhb.at
END:VEVENT
BEGIN:VEVENT
DTSTART;VALUE=DATE:20230218
DTEND;VALUE=DATE:20230219
DTSTAMP:20260424T105004
CREATED:20230222T035327Z
LAST-MODIFIED:20230222T052448Z
UID:10000056-1676678400-1676764799@www.oerhb.at
SUMMARY:Landestag Tirol
DESCRIPTION:Der Landestag der Österreichischen Rettungshundebrigade Landesgruppe Tirol für das Geschäftsjahr 2022 findet am 18.02.2023 ab 17 Uhr in Treffen in Imst statt. \nDie Einladung an alle Mitglieder der Landesgruppe Tirol erfolgt statutenkonform schriftlich. \nAuf das pünktliche und verlässliche Erscheinen der Mitglieder freut sich die Landesleitung.
URL:https://www.oerhb.at/veranstaltung/landestag-tirol/
CATEGORIES:Bund,Tirol
ORGANIZER;CN="Landesgruppe Tirol":MAILTO:ll-tirol@oerhb.at
END:VEVENT
BEGIN:VEVENT
DTSTART;TZID=Europe/Vienna:20230202T180000
DTEND;TZID=Europe/Vienna:20230202T180000
DTSTAMP:20260424T105004
CREATED:20230222T035618Z
LAST-MODIFIED:20230222T052520Z
UID:10000057-1675360800-1675360800@www.oerhb.at
SUMMARY:Einladung "Sicherheit & Hilfe" - Neujahrsempfang des Landes Tirol
DESCRIPTION:Der „Sicherheitsempfang des Landes Tirol“ zu Beginn des neuen Jahres ist mittlerweile zu einer fixen Einrichtung geworden – vor allem mit dem Ziel\, den Organisationen und Einsatzkräften des Landes Tirol für deren engagierten Einsatz im Dienste der Sicherheit im vergangenen Jahr zu danken und einen Ausblick auf gemeinsame Herausforderungen für das neue Jahr zu geben. \n  \nDeshalb erlauben wir uns\, Sie gemeinsam mit Ihrer Organisationseinheit zum diesjährigen Neujahrsempfang des Landes Tirol unter dem Motto „Sicherheit & Hilfe“ einzuladen
URL:https://www.oerhb.at/veranstaltung/einladung-sicherheit-hilfe-neujahrsempfang-des-landes-tirol/
LOCATION:Congress Innsbruck\, Dogana\, Österreich
CATEGORIES:Bund,Tirol
ORGANIZER;CN="Landesgruppe Tirol":MAILTO:ll-tirol@oerhb.at
END:VEVENT
END:VCALENDAR