BEGIN:VCALENDAR
VERSION:2.0
PRODID:-//ÖRHB - ECPv6.15.18//NONSGML v1.0//EN
CALSCALE:GREGORIAN
METHOD:PUBLISH
X-WR-CALNAME:ÖRHB
X-ORIGINAL-URL:https://www.oerhb.at
X-WR-CALDESC:Veranstaltungen für ÖRHB
REFRESH-INTERVAL;VALUE=DURATION:PT1H
X-Robots-Tag:noindex
X-PUBLISHED-TTL:PT1H
BEGIN:VTIMEZONE
TZID:Europe/Vienna
BEGIN:DAYLIGHT
TZOFFSETFROM:+0100
TZOFFSETTO:+0200
TZNAME:CEST
DTSTART:20220327T010000
END:DAYLIGHT
BEGIN:STANDARD
TZOFFSETFROM:+0200
TZOFFSETTO:+0100
TZNAME:CET
DTSTART:20221030T010000
END:STANDARD
BEGIN:DAYLIGHT
TZOFFSETFROM:+0100
TZOFFSETTO:+0200
TZNAME:CEST
DTSTART:20230326T010000
END:DAYLIGHT
BEGIN:STANDARD
TZOFFSETFROM:+0200
TZOFFSETTO:+0100
TZNAME:CET
DTSTART:20231029T010000
END:STANDARD
BEGIN:DAYLIGHT
TZOFFSETFROM:+0100
TZOFFSETTO:+0200
TZNAME:CEST
DTSTART:20240331T010000
END:DAYLIGHT
BEGIN:STANDARD
TZOFFSETFROM:+0200
TZOFFSETTO:+0100
TZNAME:CET
DTSTART:20241027T010000
END:STANDARD
END:VTIMEZONE
BEGIN:VEVENT
DTSTART;VALUE=DATE:20230916
DTEND;VALUE=DATE:20230918
DTSTAMP:20260424T120602
CREATED:20230803T183746Z
LAST-MODIFIED:20230803T183746Z
UID:10000083-1694822400-1694995199@www.oerhb.at
SUMMARY:Landeseinsatzübung NÖ Blumau
DESCRIPTION:Die Landesgruppe Niederösterreich veranstaltet am 16./17.9.2023 am Truppenübungsplatz Blumau eine Landeseinsatzübung. Start ist am Samstag 16.9.23 um 9:00\, die Übung dauert bis Sonntag 17.9.23 16:00. \nEs ist eine Tag-Wegsuche\, eine Nacht-Wegsuche und eine Flächensuche zu absolvieren.  \nAnmeldung bis spätestens 03.09.2023 online möglich. \nTreffpunkt: \nTruppenübungsplatz Blumau: Kibitzwiese Verbindungsstraße Günselsdorf nach Blumau\, 2525 Günselsdorf. Am Schranken gegenüber vom Modellflugplatz Günselsdorf.  \nFür jeden Teilnehmer gilt: Uniform mit schwarzen knöchelhohen Einsatzschuhen\, Kompletter Einsatzrucksack\, mit Kompass\, wenn vorhanden GPS-Gerät\, Gore-Tex\, Ausrüstung für die Nachtsuche\, Funkgeräte (digital und analog)\, Zivil Gewand/ Unterlegsmatte (Jeder\, auch Hundeführer können als Verstecksperson eingeteilt werden) Natürlich darf vor Ort wieder übernachtet werden. (Zelt\, Auto\, usw.) Das gesamte Wochenende gilt Selbstversorgung. Genaueres zur Übung wird noch gesondert ausgeschrieben. \nJeder Teilnehmer haftet für etwaige Schäden\, die durch ihn oder seinen Hund verursacht werden selbst!  \n  \n 
URL:https://www.oerhb.at/veranstaltung/landeseinsatzuebung-noe-blumau/
LOCATION:Blumau\, Kibitzwiese\, Günselsdorf\, 2525\, Österreich
CATEGORIES:Bund,Steiermark
ORGANIZER;CN="LEL N%C3%96":MAILTO:lel-noe@oerhb.at
END:VEVENT
END:VCALENDAR