BEGIN:VCALENDAR
VERSION:2.0
PRODID:-//ÖRHB - ECPv6.15.18//NONSGML v1.0//EN
CALSCALE:GREGORIAN
METHOD:PUBLISH
X-ORIGINAL-URL:https://www.oerhb.at
X-WR-CALDESC:Veranstaltungen für ÖRHB
REFRESH-INTERVAL;VALUE=DURATION:PT1H
X-Robots-Tag:noindex
X-PUBLISHED-TTL:PT1H
BEGIN:VTIMEZONE
TZID:Europe/Vienna
BEGIN:DAYLIGHT
TZOFFSETFROM:+0100
TZOFFSETTO:+0200
TZNAME:CEST
DTSTART:20250330T010000
END:DAYLIGHT
BEGIN:STANDARD
TZOFFSETFROM:+0200
TZOFFSETTO:+0100
TZNAME:CET
DTSTART:20251026T010000
END:STANDARD
BEGIN:DAYLIGHT
TZOFFSETFROM:+0100
TZOFFSETTO:+0200
TZNAME:CEST
DTSTART:20260329T010000
END:DAYLIGHT
BEGIN:STANDARD
TZOFFSETFROM:+0200
TZOFFSETTO:+0100
TZNAME:CET
DTSTART:20261025T010000
END:STANDARD
BEGIN:DAYLIGHT
TZOFFSETFROM:+0100
TZOFFSETTO:+0200
TZNAME:CEST
DTSTART:20270328T010000
END:DAYLIGHT
BEGIN:STANDARD
TZOFFSETFROM:+0200
TZOFFSETTO:+0100
TZNAME:CET
DTSTART:20271031T010000
END:STANDARD
END:VTIMEZONE
BEGIN:VEVENT
DTSTART;VALUE=DATE:20260424
DTEND;VALUE=DATE:20260426
DTSTAMP:20260424T032744
CREATED:20260218T184350Z
LAST-MODIFIED:20260330T145726Z
UID:10000290-1776988800-1777161599@www.oerhb.at
SUMMARY:Landeseinsatzübung Tirol
DESCRIPTION:Die Landeseinsatzübung der Österreichischen Rettungshundebrigade\, Landesgruppe Tirol\, findet am 24.4.2026-25.04.2026 statt. \n  \nDie Anmeldung ist über die Webseite vom 18.02.2026 bis 17.04.2026 möglich. \n  \n\nDetaillierte Informationen folgen durch unseren Landeseinsatzleiter Michael Stockhammer . \n\n  \nBei Fragen stehen wir gerne zur Verfügung
URL:https://www.oerhb.at/veranstaltung/landeseinsatzuebung-tirol-4/
LOCATION:Tirol\, Österreich
CATEGORIES:Tirol
ATTACH;FMTTYPE=image/jpeg:/wp-content/uploads/2026/01/IMG-20250712-WA0002-1.jpg
ORGANIZER;CN="Landesgruppe Tirol":MAILTO:ll-tirol@oerhb.at
END:VEVENT
BEGIN:VEVENT
DTSTART;VALUE=DATE:20260425
DTEND;VALUE=DATE:20260427
DTSTAMP:20260424T032744
CREATED:20260116T133644Z
LAST-MODIFIED:20260323T180850Z
UID:10000267-1777075200-1777247999@www.oerhb.at
SUMMARY:2. Landesprüfung OÖ
DESCRIPTION:Prüfungsstufen: \nBH-VT \nIPO Fläche V/A/B \nIPO Trümmer V/A/B \n 
URL:https://www.oerhb.at/veranstaltung/2-landespruefung-ooe/
CATEGORIES:Oberösterreich
ATTACH;FMTTYPE=image/jpeg:/wp-content/uploads/2025/03/20250329-OeRHB-1.-Landespruefung-259.jpg
ORGANIZER;CN="Landesgruppe Ober%C3%B6sterreich":MAILTO:lar-ooe@oerhb.at
END:VEVENT
BEGIN:VEVENT
DTSTART;VALUE=DATE:20260425
DTEND;VALUE=DATE:20260426
DTSTAMP:20260424T032744
CREATED:20260411T173544Z
LAST-MODIFIED:20260411T173544Z
UID:10000298-1777075200-1777161599@www.oerhb.at
SUMMARY:Blaulichtag Absam
DESCRIPTION:Blaulichttag in Absam 🚨 \n📅 25. April\n📝 Anmeldung über die Webseite\n⏳ Von 11.04. bis 23.04. möglich \nBei Fragen:\n👉 Anna Rudig (Staffel Innsbruck-Land) \nSei dabei und erlebe einen spannenden Tag mit den Einsatzorganisationen! 🔥🚑🚓
URL:https://www.oerhb.at/veranstaltung/blaulichtag-absam/
LOCATION:Tirol\, Österreich
CATEGORIES:Tirol
ATTACH;FMTTYPE=image/jpeg:/wp-content/uploads/2026/04/IMG-20251026-WA0015.jpg
ORGANIZER;CN="Landesgruppe Tirol":MAILTO:ll-tirol@oerhb.at
END:VEVENT
BEGIN:VEVENT
DTSTART;VALUE=DATE:20260425
DTEND;VALUE=DATE:20260427
DTSTAMP:20260424T032744
CREATED:20251203T073353Z
LAST-MODIFIED:20251203T192542Z
UID:10000253-1777075200-1777247999@www.oerhb.at
SUMMARY:GRUPPENKOMMANDANT:INNEN Lehrgang 2026 - Teil 3
DESCRIPTION:Die Bundeseinsatzleitung lädt euch herzlich zum nächsten Lehrgang für Gruppenkommandant:innen ein. \nDer Lehrgang ist in erster Linie für Helfer:innen in der ÖRHB gedacht und sollte\, wenn möglich\, auch nur von diesen besucht werden.\nDer Lehrgang ist auf 15 Teilnehmer:innen beschränkt und wird über den Schlüssel nach der Einsatzanzahl 2025 (eingelangte Einsatzberichte mit Stand 30. November 2025) je Land berechnet. \nDie Anmeldung erfolgt über die jeweilige Landesleitung an bel@oerhb.at \nZur Einladung mit weiteren Infos
URL:https://www.oerhb.at/veranstaltung/gruppenkommandantinnen-lehrgang-2026-teil-3/
LOCATION:Bundesausbildungszentrum Gröbming\, Schulstraße 443\, Gröbming\, 8962\, Österreich
CATEGORIES:Bund
ATTACH;FMTTYPE=image/jpeg:/wp-content/uploads/2024/05/wIMG_2061.jpg
ORGANIZER;CN="Bund BEL":MAILTO:bel@oerhb.at
END:VEVENT
BEGIN:VEVENT
DTSTART;VALUE=DATE:20260425
DTEND;VALUE=DATE:20260427
DTSTAMP:20260424T032744
CREATED:20260321T082917Z
LAST-MODIFIED:20260321T083118Z
UID:10000293-1777075200-1777247999@www.oerhb.at
SUMMARY:1. Landesprüfung 2026 Kärnten
DESCRIPTION:Prüfung der Österreichischen Rettungshundebrigade Landesgruppe Kärnten. \nLeistungsrichter: Marco Schmitt \nPrüfungsleiterin: Kirsten Kaltenegger \nOrt: Staffel Villach \nDatum: 25.04.2026 – 26.04.2026\n \nIPO RH FL V\, A\, B \nÖPO BH \nIPO MT V\n \nAnmeldung online möglich bis 09.04.2026\, 23:30 Uhr \nNähere Informationen zur Veranstaltung werden zeitnah von der Landesausbildung bekannt gegeben.
URL:https://www.oerhb.at/veranstaltung/1-landespruefung-2026-kaernten/
LOCATION:Villach\, Kärnten\, Österreich
CATEGORIES:Kärnten
ORGANIZER;CN="Landesgruppe K%C3%A4rnten":MAILTO:lar-ktn@oerhb.at
END:VEVENT
BEGIN:VEVENT
DTSTART;TZID=Europe/Vienna:20260425T080000
DTEND;TZID=Europe/Vienna:20260426T170000
DTSTAMP:20260424T032744
CREATED:20260206T172759Z
LAST-MODIFIED:20260324T113626Z
UID:10000285-1777104000-1777222800@www.oerhb.at
SUMMARY:2. Landesprüfung
DESCRIPTION:Die Landesausbildung ladet recht herzlich zur 2. Landesprüfung 2026 ein. Die Prüfung wird durch den Leistungsrichter Heinrich Fischer gerichtet.\nMögliche Prüfungssparten sind: IPO-FL\, IPO-T – V\, BH-VT\, IBGH \nDie Prüfungen finden am 25.04. und am 26.04.2026 in Riedlingsdorf und Umgebung statt. \nAm 29.3.26 zwischen 08:00 und 12:30\, besteht die Möglichkeit im Prüfungsgelände zu Trainieren. Die Anmeldung für die Trainingsmöglichkeit ist bis spätestens 27.3.2026 unter ls-bgld@oerhb.at möglich. \n  \nDie Anmeldung für die Prüfung ist bis spätestens 13.04.2026 unter ls-bgld@oerhb.at möglich. \n  \nEinladung 2 Landesprüfung 2026
URL:https://www.oerhb.at/veranstaltung/2-landespruefung/
CATEGORIES:Burgenland
ATTACH;FMTTYPE=image/jpeg:/wp-content/uploads/2025/10/8022d6a0e5f24e94a692a54da200def1-e1770398838723.jpg
ORGANIZER;CN="LAR Burgenland":MAILTO:lar-bgld@oerhb.at
END:VEVENT
BEGIN:VEVENT
DTSTART;VALUE=DATE:20260501
DTEND;VALUE=DATE:20260504
DTSTAMP:20260424T032744
CREATED:20260323T180523Z
LAST-MODIFIED:20260323T183527Z
UID:10000295-1777593600-1777852799@www.oerhb.at
SUMMARY:1. Landesübung OÖ 2026
DESCRIPTION:
URL:https://www.oerhb.at/veranstaltung/1-landesuebung-ooe-2026/
LOCATION:Langfirling
CATEGORIES:Oberösterreich
ATTACH;FMTTYPE=image/jpeg:/wp-content/uploads/2023/05/IMG_4323.jpg
ORGANIZER;CN="LAR Ober%C3%B6sterreich":MAILTO:lar-ooe@oerhb.at
END:VEVENT
BEGIN:VEVENT
DTSTART;VALUE=DATE:20260506
DTEND;VALUE=DATE:20260507
DTSTAMP:20260424T032744
CREATED:20260421T180350Z
LAST-MODIFIED:20260421T180350Z
UID:10000304-1778025600-1778111999@www.oerhb.at
SUMMARY:Kindergarten Fiechten
DESCRIPTION:Bei Fragen: \n👉 David Schwarzenauer (Staffel Innsbruck-Land)
URL:https://www.oerhb.at/veranstaltung/kindergarten-fiechten/
LOCATION:Tirol\, Österreich
CATEGORIES:Tirol
ATTACH;FMTTYPE=image/jpeg:/wp-content/uploads/2026/04/IMG-20251026-WA0015.jpg
ORGANIZER;CN="Landesgruppe Tirol":MAILTO:ll-tirol@oerhb.at
END:VEVENT
BEGIN:VEVENT
DTSTART;VALUE=DATE:20260508
DTEND;VALUE=DATE:20260510
DTSTAMP:20260424T032744
CREATED:20260412T195318Z
LAST-MODIFIED:20260412T195544Z
UID:10000299-1778198400-1778371199@www.oerhb.at
SUMMARY:Landeseinsatzübung Kärnten
DESCRIPTION:Landeseinsatzübung der Österreichischen Rettungshundebrigade Landesgruppe Kärnten. \nDatum: 08.05.2026 – 09.05.2026 \nStart: 20 Uhr \nProgramm lt. Vorgabe Bund. \nOrt: Raum Villach (genauer Treffpunkt wird zeitnah noch bekannt gegeben) \nAnmeldeschluss 28.04.2026 23:30 Uhr \nNähere Informationen zur Veranstaltung werden zeitnah vom Landeseinsatzleiter Stv. Michael Maltsch bekannt gegeben. \n 
URL:https://www.oerhb.at/veranstaltung/landeseinsatzuebung-kaernten-5/
LOCATION:Villach\, Kärnten\, Österreich
CATEGORIES:Kärnten
ORGANIZER;CN="Landesgruppe K%C3%A4rnten":MAILTO:lar-ktn@oerhb.at
END:VEVENT
BEGIN:VEVENT
DTSTART;VALUE=DATE:20260514
DTEND;VALUE=DATE:20260518
DTSTAMP:20260424T032744
CREATED:20251220T183331Z
LAST-MODIFIED:20260401T182953Z
UID:10000260-1778716800-1779062399@www.oerhb.at
SUMMARY:Bundesflächenlehrgang
DESCRIPTION:Die Bundesausbildung lädt euch herzlich zum diesjährigen Bundesflächenlehrgang 2026 ein. \nTrotz zahlreicher Trainingsgebiete und Möglichkeiten ist die Zahl der Teilnehmer:innen auf 200 Plätze begrenzt. Davon sind 30 Plätze für Teilnehmer:innen am Trümmertraining (Erzberg) vorgesehen. Ebenso gibt es wieder eine Trainingsgruppe für das Thema „Trail“. \nDie Anmeldung ist ab Freitag\, 3. April 2026\, hier möglich.\nAnmeldeschluss ist am 1. Mai 2026. \nWir freuen uns auf eure Teilnahme! \nZur Einladung \n 
URL:https://www.oerhb.at/veranstaltung/bundesflaechenlehrgang-4/
LOCATION:Kraubath an der Mur\, Steiermark\, 8714\, Österreich
CATEGORIES:Bund
ATTACH;FMTTYPE=image/jpeg:/wp-content/uploads/2025/06/20.jpeg
ORGANIZER;CN="Bundesausbildung":MAILTO:bar@oerhb.at
END:VEVENT
BEGIN:VEVENT
DTSTART;VALUE=DATE:20260522
DTEND;VALUE=DATE:20260525
DTSTAMP:20260424T032744
CREATED:20260324T074553Z
LAST-MODIFIED:20260330T145530Z
UID:10000297-1779408000-1779667199@www.oerhb.at
SUMMARY:Landesprüfung Tirol 2026
DESCRIPTION:Die Landesgruppe Tirol freut sich\, zur Landesprüfung am 22. Bis 24. Mai 2026 im Bezirk Innsbruck-Land einzuladen. \nAnmeldung:\nDie Anmeldung erfolgt über die ÖRHB-Webseite von 22.04.2026 bis 17.05.2026 \nKontakt:\nBei Fragen steht euch der Landesausbildungsreferent Johannes Mann gerne zur Verfügung.
URL:https://www.oerhb.at/veranstaltung/landespruefung-tirol-2026/
LOCATION:Tirol\, Österreich
CATEGORIES:Tirol
ATTACH;FMTTYPE=image/jpeg:/wp-content/uploads/2026/03/IMG-20260129-WA0004.jpg
ORGANIZER;CN="Landesgruppe Tirol":MAILTO:ll-tirol@oerhb.at
END:VEVENT
BEGIN:VEVENT
DTSTART;TZID=Europe/Vienna:20260530T140000
DTEND;TZID=Europe/Vienna:20260530T170000
DTSTAMP:20260424T032744
CREATED:20260206T170240Z
LAST-MODIFIED:20260206T170240Z
UID:10000280-1780149600-1780160400@www.oerhb.at
SUMMARY:40 Jahre Landesgruppe Burgenland
DESCRIPTION:Die 40 – Jahr Feier der Österreichischen Rettungshundebrigade Landesgruppe Burgenland findet am 30. Mai 2026 um 14Uhr in Riedlingsdorf statt.
URL:https://www.oerhb.at/veranstaltung/40-jahre-landesgruppe-burgenland/
LOCATION:Riedlingsdorf
CATEGORIES:Burgenland
ATTACH;FMTTYPE=image/png:/wp-content/uploads/2026/02/Screenshot-2026-02-06-180020.png
END:VEVENT
BEGIN:VEVENT
DTSTART;TZID=Europe/Vienna:20260606T080000
DTEND;TZID=Europe/Vienna:20260607T170000
DTSTAMP:20260424T032744
CREATED:20260206T171026Z
LAST-MODIFIED:20260206T172141Z
UID:10000281-1780732800-1780851600@www.oerhb.at
SUMMARY:1. Landesübung
DESCRIPTION:Nähere Informationen folgen.
URL:https://www.oerhb.at/veranstaltung/1-landesuebung/
CATEGORIES:Burgenland
ATTACH;FMTTYPE=image/jpeg:/wp-content/uploads/2026/02/WhatsApp-Bild-2025-06-11-um-20.43.38_a58df727-e1770398488924.jpg
ORGANIZER;CN="LAR Burgenland":MAILTO:lar-bgld@oerhb.at
END:VEVENT
BEGIN:VEVENT
DTSTART;VALUE=DATE:20260619
DTEND;VALUE=DATE:20260622
DTSTAMP:20260424T032744
CREATED:20260118T074940Z
LAST-MODIFIED:20260118T074940Z
UID:10000270-1781827200-1782086399@www.oerhb.at
SUMMARY:Landestraining Staffel Weiz
DESCRIPTION:weitere Informationen folgen! \nLEÜ 19.06 – 21.06 \nLLG 20.06 – 21.06
URL:https://www.oerhb.at/veranstaltung/landestraining-staffel-weiz/
CATEGORIES:Steiermark
END:VEVENT
BEGIN:VEVENT
DTSTART;VALUE=DATE:20260707
DTEND;VALUE=DATE:20260708
DTSTAMP:20260424T032744
CREATED:20260413T153245Z
LAST-MODIFIED:20260413T153245Z
UID:10000300-1783382400-1783468799@www.oerhb.at
SUMMARY:Hauptschule Kolsass
DESCRIPTION:📅 7. Juli\n📝 Anmeldung über die Webseite\n⏳ Von 11.04. bis 15.06 möglich \nBei Fragen:\n👉 Michael Stockhammer (Staffel Innsbruck-Land)
URL:https://www.oerhb.at/veranstaltung/hauptschule-kolsass/
LOCATION:Tirol\, Österreich
CATEGORIES:Tirol
ATTACH;FMTTYPE=image/jpeg:/wp-content/uploads/2026/04/IMG-20251026-WA0015.jpg
ORGANIZER;CN="Landesgruppe Tirol":MAILTO:ll-tirol@oerhb.at
END:VEVENT
BEGIN:VEVENT
DTSTART;VALUE=DATE:20260716
DTEND;VALUE=DATE:20260717
DTSTAMP:20260424T032744
CREATED:20260119T083107Z
LAST-MODIFIED:20260119T083107Z
UID:10000272-1784160000-1784246399@www.oerhb.at
SUMMARY:Schnuppertag Wasserarbeit
DESCRIPTION:Detailinfos und Anmeldemöglichkeit folgen.
URL:https://www.oerhb.at/veranstaltung/schnuppertag-wasserarbeit/
LOCATION:Faaker See\, Seeufer-Landesstraße\, Faak am See\, Kärnten\, 9583\, Österreich
CATEGORIES:Bund
ATTACH;FMTTYPE=image/jpeg:/wp-content/uploads/2024/08/wDummyarbeit-im-Wasser1.jpg
ORGANIZER;CN="Bundesausbildung":MAILTO:bar@oerhb.at
END:VEVENT
BEGIN:VEVENT
DTSTART;VALUE=DATE:20260717
DTEND;VALUE=DATE:20260718
DTSTAMP:20260424T032744
CREATED:20260119T083232Z
LAST-MODIFIED:20260119T083232Z
UID:10000273-1784246400-1784332799@www.oerhb.at
SUMMARY:Schnuppertag Wasserarbeit
DESCRIPTION:Detailinfos und Anmeldemöglichkeit folgen.
URL:https://www.oerhb.at/veranstaltung/schnuppertag-wasserarbeit-2/
LOCATION:Faaker See\, Seeufer-Landesstraße\, Faak am See\, Kärnten\, 9583\, Österreich
CATEGORIES:Bund
ATTACH;FMTTYPE=image/jpeg:/wp-content/uploads/2024/08/wDummyarbeit-im-Wasser1.jpg
ORGANIZER;CN="Bundesausbildung":MAILTO:bar@oerhb.at
END:VEVENT
BEGIN:VEVENT
DTSTART;VALUE=DATE:20260722
DTEND;VALUE=DATE:20260727
DTSTAMP:20260424T032744
CREATED:20260110T131624Z
LAST-MODIFIED:20260113T112723Z
UID:10000264-1784678400-1785110399@www.oerhb.at
SUMMARY:Bundesjugendlehrgang
DESCRIPTION:Der Jugendlehrgang 2026 wird von 22. bis 26. Juli in Judenburg stattfinden. \nDie Einladung mit weiteren Informationen zum Lehrgang findet ihr hier. \nErgänzend zur Anmeldung ist die ausgefüllte und unterschriebene Einverständniserklärung per Email  an das Bundesjugendreferat (bjr@oerhb.at) zu übermitteln. \nDie Bundesjugendreferentinnen stehen jederzeit für eure Fragen und weitere Informationen zur Verfügung. Wir wünschen euch einen spannenden und lehrreichen Aufenthalt in Judenburg!
URL:https://www.oerhb.at/veranstaltung/bundesjugendlehrgang-4/
LOCATION:Schloss Liechtenstein\, Weißkirchnerstraße 19\, Judenburg\, Steiermark\, 8750
CATEGORIES:Bund
ATTACH;FMTTYPE=image/jpeg:/wp-content/uploads/2026/01/IMG_7387.jpeg
ORGANIZER;CN="Bund Jugend":MAILTO:bjr@oerhb.at
END:VEVENT
BEGIN:VEVENT
DTSTART;VALUE=DATE:20260806
DTEND;VALUE=DATE:20260808
DTSTAMP:20260424T032744
CREATED:20260119T083442Z
LAST-MODIFIED:20260413T051439Z
UID:10000274-1785974400-1786147199@www.oerhb.at
SUMMARY:Wasserworkshop Beginner
DESCRIPTION:Detailinfos und Anmeldemöglichkeit folgen.
URL:https://www.oerhb.at/veranstaltung/wasserworkshop-beginner/
LOCATION:Faaker See\, Seeufer-Landesstraße\, Faak am See\, Kärnten\, 9583\, Österreich
CATEGORIES:Bund
ATTACH;FMTTYPE=image/jpeg:/wp-content/uploads/2024/08/wDummyarbeit-im-Wasser1.jpg
ORGANIZER;CN="Bundesausbildung":MAILTO:bar@oerhb.at
END:VEVENT
BEGIN:VEVENT
DTSTART;VALUE=DATE:20260808
DTEND;VALUE=DATE:20260810
DTSTAMP:20260424T032744
CREATED:20260119T083601Z
LAST-MODIFIED:20260413T051333Z
UID:10000275-1786147200-1786319999@www.oerhb.at
SUMMARY:Wasserworkshop Fortgeschrittene
DESCRIPTION:Detailinfos und Anmeldemöglichkeit folgen.
URL:https://www.oerhb.at/veranstaltung/wasserworkshop-fortgeschrittene/
LOCATION:Faaker See\, Seeufer-Landesstraße\, Faak am See\, Kärnten\, 9583\, Österreich
CATEGORIES:Bund
ATTACH;FMTTYPE=image/jpeg:/wp-content/uploads/2024/08/wDummyarbeit-im-Wasser1.jpg
ORGANIZER;CN="Bundesausbildung":MAILTO:bar@oerhb.at
END:VEVENT
BEGIN:VEVENT
DTSTART;VALUE=DATE:20260905
DTEND;VALUE=DATE:20260906
DTSTAMP:20260424T032744
CREATED:20260413T153901Z
LAST-MODIFIED:20260413T153901Z
UID:10000301-1788566400-1788652799@www.oerhb.at
SUMMARY:Bezirksjugendtag FF Weer
DESCRIPTION:📅 5. September\n📝 Anmeldung über die Webseite\n⏳ Von 13.04. bis 22.08 möglich \nBei Fragen:\n👉 Michael Stockhammer (Staffel Innsbruck-Land) \nSei dabei und erlebe einen spannenden Tag mit den Einsatzorganisationen! 🔥🚑🚓
URL:https://www.oerhb.at/veranstaltung/bezirksjugendtag-ff-weer/
LOCATION:Tirol\, Österreich
CATEGORIES:Tirol
ATTACH;FMTTYPE=image/jpeg:/wp-content/uploads/2026/04/IMG-20251026-WA0015.jpg
ORGANIZER;CN="Landesgruppe Tirol":MAILTO:ll-tirol@oerhb.at
END:VEVENT
BEGIN:VEVENT
DTSTART;VALUE=DATE:20260912
DTEND;VALUE=DATE:20260913
DTSTAMP:20260424T032744
CREATED:20260413T160138Z
LAST-MODIFIED:20260413T160138Z
UID:10000303-1789171200-1789257599@www.oerhb.at
SUMMARY:Blaulichtag Bergwacht Haiming- Silz
DESCRIPTION:📅 12. September \n📝 Anmeldung über die Webseite \n⏳ Von 13.04. bis 29.08 möglich \n  \nBei Fragen: \n👉 Michael Heller \n  \nSei dabei und erlebe einen spannenden Tag mit den Einsatzorganisationen! 🔥🚑🚓
URL:https://www.oerhb.at/veranstaltung/blaulichtag-bergwacht-haiming-silz/
LOCATION:Tirol\, Österreich
CATEGORIES:Tirol
ATTACH;FMTTYPE=image/jpeg:/wp-content/uploads/2026/04/IMG-20251026-WA0015.jpg
ORGANIZER;CN="Landesgruppe Tirol":MAILTO:ll-tirol@oerhb.at
END:VEVENT
BEGIN:VEVENT
DTSTART;VALUE=DATE:20260919
DTEND;VALUE=DATE:20260920
DTSTAMP:20260424T032744
CREATED:20260413T154651Z
LAST-MODIFIED:20260413T154651Z
UID:10000302-1789776000-1789862399@www.oerhb.at
SUMMARY:Blaulichtag FF Vomperbach
DESCRIPTION:📅 19. September \n📝 Anmeldung über die Webseite\n⏳ Von 13.04. bis 05.09. möglich \nBei Fragen:\n👉 Michael Stockhammer (Staffel Innsbruck-Land) \nSei dabei und erlebe einen spannenden Tag mit den Einsatzorganisationen! 🔥🚑🚓
URL:https://www.oerhb.at/veranstaltung/blaulichtag-ff-vomperbach/
LOCATION:Tirol\, Österreich
CATEGORIES:Tirol
ATTACH;FMTTYPE=image/jpeg:/wp-content/uploads/2026/04/IMG-20251026-WA0015.jpg
ORGANIZER;CN="Landesgruppe Tirol":MAILTO:ll-tirol@oerhb.at
END:VEVENT
BEGIN:VEVENT
DTSTART;VALUE=DATE:20260926
DTEND;VALUE=DATE:20260928
DTSTAMP:20260424T032744
CREATED:20251220T183955Z
LAST-MODIFIED:20251220T183955Z
UID:10000262-1790380800-1790553599@www.oerhb.at
SUMMARY:Thermik-Seminar
DESCRIPTION:
URL:https://www.oerhb.at/veranstaltung/thermik-seminar-3/
CATEGORIES:Bund
ATTACH;FMTTYPE=image/jpeg:/wp-content/uploads/2025/10/oerhb-web-0480.jpg
ORGANIZER;CN="Bundesausbildung":MAILTO:bar@oerhb.at
END:VEVENT
BEGIN:VEVENT
DTSTART;TZID=Europe/Vienna:20261010T080000
DTEND;TZID=Europe/Vienna:20261011T170000
DTSTAMP:20260424T032744
CREATED:20260206T171738Z
LAST-MODIFIED:20260206T171738Z
UID:10000283-1791619200-1791738000@www.oerhb.at
SUMMARY:2. Landeseinsatzübung
DESCRIPTION:Nähere Informationen folgen.
URL:https://www.oerhb.at/veranstaltung/2-landeseinsatzuebung-2/
CATEGORIES:Burgenland
ATTACH;FMTTYPE=image/jpeg:/wp-content/uploads/2026/02/DSC05861b-scaled.jpg
ORGANIZER;CN="LEL Burgenland":MAILTO:lel-bgld@oerhb.at
END:VEVENT
BEGIN:VEVENT
DTSTART;VALUE=DATE:20261016
DTEND;VALUE=DATE:20261019
DTSTAMP:20260424T032745
CREATED:20251220T183700Z
LAST-MODIFIED:20260204T183559Z
UID:10000261-1792108800-1792367999@www.oerhb.at
SUMMARY:Bundeseinsatzübung
DESCRIPTION:
URL:https://www.oerhb.at/veranstaltung/bundeseinsatzuebung-4/
LOCATION:Bruckneudorf\, Bruckneudorf\, Burgenland\, 2460\, Österreich
CATEGORIES:Bund
ATTACH;FMTTYPE=image/jpeg:/wp-content/uploads/2022/08/funde4.jpg
ORGANIZER;CN="Bund BEL":MAILTO:bel@oerhb.at
END:VEVENT
BEGIN:VEVENT
DTSTART;TZID=Europe/Vienna:20261024T080000
DTEND;TZID=Europe/Vienna:20261024T170000
DTSTAMP:20260424T032745
CREATED:20260206T173035Z
LAST-MODIFIED:20260206T173035Z
UID:10000286-1792828800-1792861200@www.oerhb.at
SUMMARY:3. Landesprüfung
DESCRIPTION:Nähere Informationen folgen.
URL:https://www.oerhb.at/veranstaltung/3-landespruefung-2/
CATEGORIES:Burgenland
ATTACH;FMTTYPE=image/jpeg:/wp-content/uploads/2025/10/IMG-20251021-WA0085-e1770399003325.jpg
ORGANIZER;CN="LAR Burgenland":MAILTO:lar-bgld@oerhb.at
END:VEVENT
BEGIN:VEVENT
DTSTART;VALUE=DATE:20261030
DTEND;VALUE=DATE:20261102
DTSTAMP:20260424T032745
CREATED:20260110T134305Z
LAST-MODIFIED:20260111T120825Z
UID:10000265-1793318400-1793577599@www.oerhb.at
SUMMARY:ÖRHB-Sieger:in 2026
DESCRIPTION:Auch 2026 werden wir unser Turnier ÖRHB-Sieger:in veranstalten. Nähere Infos folgen.
URL:https://www.oerhb.at/veranstaltung/oerhb-siegerin-2026/
CATEGORIES:Bund
ATTACH;FMTTYPE=image/jpeg:/wp-content/uploads/2026/01/Banner1200x645.jpg
ORGANIZER;CN="Bundesausbildung":MAILTO:bar@oerhb.at
END:VEVENT
BEGIN:VEVENT
DTSTART;TZID=Europe/Vienna:20261114T080000
DTEND;TZID=Europe/Vienna:20261115T170000
DTSTAMP:20260424T032745
CREATED:20260225T064627Z
LAST-MODIFIED:20260225T064627Z
UID:10000292-1794643200-1794762000@www.oerhb.at
SUMMARY:4. Landesprüfung
DESCRIPTION:Nähere Informationen folgen.
URL:https://www.oerhb.at/veranstaltung/4-landespruefung-2/
CATEGORIES:Burgenland
ATTACH;FMTTYPE=image/jpeg:/wp-content/uploads/2025/10/2d270eb8da104a2c86f726e4d1f03dfc.jpg
ORGANIZER;CN="LAR Burgenland":MAILTO:lar-bgld@oerhb.at
END:VEVENT
END:VCALENDAR