BEGIN:VCALENDAR
VERSION:2.0
PRODID:-//ÖRHB - ECPv6.15.18//NONSGML v1.0//EN
CALSCALE:GREGORIAN
METHOD:PUBLISH
X-ORIGINAL-URL:https://www.oerhb.at
X-WR-CALDESC:Veranstaltungen für ÖRHB
REFRESH-INTERVAL;VALUE=DURATION:PT1H
X-Robots-Tag:noindex
X-PUBLISHED-TTL:PT1H
BEGIN:VTIMEZONE
TZID:Europe/Vienna
BEGIN:DAYLIGHT
TZOFFSETFROM:+0100
TZOFFSETTO:+0200
TZNAME:CEST
DTSTART:20220327T010000
END:DAYLIGHT
BEGIN:STANDARD
TZOFFSETFROM:+0200
TZOFFSETTO:+0100
TZNAME:CET
DTSTART:20221030T010000
END:STANDARD
BEGIN:DAYLIGHT
TZOFFSETFROM:+0100
TZOFFSETTO:+0200
TZNAME:CEST
DTSTART:20230326T010000
END:DAYLIGHT
BEGIN:STANDARD
TZOFFSETFROM:+0200
TZOFFSETTO:+0100
TZNAME:CET
DTSTART:20231029T010000
END:STANDARD
BEGIN:DAYLIGHT
TZOFFSETFROM:+0100
TZOFFSETTO:+0200
TZNAME:CEST
DTSTART:20240331T010000
END:DAYLIGHT
BEGIN:STANDARD
TZOFFSETFROM:+0200
TZOFFSETTO:+0100
TZNAME:CET
DTSTART:20241027T010000
END:STANDARD
END:VTIMEZONE
BEGIN:VEVENT
DTSTART;TZID=Europe/Vienna:20230204T090000
DTEND;TZID=Europe/Vienna:20230205T160000
DTSTAMP:20260424T174440
CREATED:20221221T152840Z
LAST-MODIFIED:20221221T153233Z
UID:10000022-1675501200-1675612800@www.oerhb.at
SUMMARY:Einsatzübung
DESCRIPTION:Bei der zweitätigen Einsatzübung in Bruck an der Leitha stehen eine Wegsuche bei Tag\, eine Nacht-Wegsuche und eine Flächensuche am Programm. Hundeführer:innen und Helfer:innen müssen diese Einsatzübung jährlich absolvieren um ihre Einsatzfähigkeit zu erlangen bzw. zu erhalten.
URL:https://www.oerhb.at/veranstaltung/einsatzuebung/
LOCATION:Bruck an der Leitha
CATEGORIES:Bund,Niederösterreich/ Wien
ORGANIZER;CN="Landesgruppe N%C3%96":MAILTO:ll-noe@oerhb.at
END:VEVENT
END:VCALENDAR