BEGIN:VCALENDAR
VERSION:2.0
PRODID:-//ÖRHB - ECPv6.15.18//NONSGML v1.0//EN
CALSCALE:GREGORIAN
METHOD:PUBLISH
X-ORIGINAL-URL:https://www.oerhb.at
X-WR-CALDESC:Veranstaltungen für ÖRHB
REFRESH-INTERVAL;VALUE=DURATION:PT1H
X-Robots-Tag:noindex
X-PUBLISHED-TTL:PT1H
BEGIN:VTIMEZONE
TZID:Europe/Vienna
BEGIN:DAYLIGHT
TZOFFSETFROM:+0100
TZOFFSETTO:+0200
TZNAME:CEST
DTSTART:20220327T010000
END:DAYLIGHT
BEGIN:STANDARD
TZOFFSETFROM:+0200
TZOFFSETTO:+0100
TZNAME:CET
DTSTART:20221030T010000
END:STANDARD
BEGIN:DAYLIGHT
TZOFFSETFROM:+0100
TZOFFSETTO:+0200
TZNAME:CEST
DTSTART:20230326T010000
END:DAYLIGHT
BEGIN:STANDARD
TZOFFSETFROM:+0200
TZOFFSETTO:+0100
TZNAME:CET
DTSTART:20231029T010000
END:STANDARD
BEGIN:DAYLIGHT
TZOFFSETFROM:+0100
TZOFFSETTO:+0200
TZNAME:CEST
DTSTART:20240331T010000
END:DAYLIGHT
BEGIN:STANDARD
TZOFFSETFROM:+0200
TZOFFSETTO:+0100
TZNAME:CET
DTSTART:20241027T010000
END:STANDARD
BEGIN:DAYLIGHT
TZOFFSETFROM:+0100
TZOFFSETTO:+0200
TZNAME:CEST
DTSTART:20250330T010000
END:DAYLIGHT
BEGIN:STANDARD
TZOFFSETFROM:+0200
TZOFFSETTO:+0100
TZNAME:CET
DTSTART:20251026T010000
END:STANDARD
END:VTIMEZONE
BEGIN:VEVENT
DTSTART;TZID=Europe/Vienna:20240406T094500
DTEND;TZID=Europe/Vienna:20240407T010000
DTSTAMP:20260424T120929
CREATED:20240403T063840Z
LAST-MODIFIED:20240403T063840Z
UID:10000107-1712396700-1712451600@www.oerhb.at
SUMMARY:Landeseinsatzübung 04/2024
DESCRIPTION:Die Landesgruppe Vorarlberg veranstaltet vom 6. bis 7. April die erste Landeseinsatzübung 2024. \nSchwerpunkt Thema: An Einsatzrelevanten Stationen erworbene Fähigkeiten weiter vertiefen. Weitere Inhalte sind auf der gesendeten Tagesordnung ersichtlich. \nAdjustierung: Einsatzuniform\, Einsatzausrüstung \nWer: Alle Mitglieder\, Anwärter der ÖRHB Landesgruppe Vorarlberg \nBitte um Vollzähliges erscheinen – Bei Abwesenheit bitte um umgehende Info!
URL:https://www.oerhb.at/veranstaltung/landeseinstzuebung-04-2024/
LOCATION:BZS Feldkirch\, Hämmerlestraße 4\, Feldkirch\, Vorarlberg\, 6800\, Österreich
CATEGORIES:Vorarlberg
END:VEVENT
BEGIN:VEVENT
DTSTART;TZID=Europe/Vienna:20231210T084500
DTEND;TZID=Europe/Vienna:20231210T170000
DTSTAMP:20260424T120929
CREATED:20231205T223057Z
LAST-MODIFIED:20231205T223057Z
UID:10000108-1702197900-1702227600@www.oerhb.at
SUMMARY:Landesübung 12/2023
DESCRIPTION:Themenschwerpunkt: Unterordnung und weitere Ausbildungsthemen \nAdjustierung: Einsatzuniform\, Einsatzausrüstung \nTN: alle Mitglieder\, Anwärter\, Pröblinge \nVollzähliges erscheinen erwünscht.
URL:https://www.oerhb.at/veranstaltung/landesuebung-12-2023/
LOCATION:BZS Feldkirch\, Hämmerlestraße 4\, Feldkirch\, Vorarlberg\, 6800\, Österreich
CATEGORIES:Vorarlberg
END:VEVENT
END:VCALENDAR