BEGIN:VCALENDAR
VERSION:2.0
PRODID:-//ÖRHB - ECPv6.15.18//NONSGML v1.0//EN
CALSCALE:GREGORIAN
METHOD:PUBLISH
X-ORIGINAL-URL:https://www.oerhb.at
X-WR-CALDESC:Veranstaltungen für ÖRHB
REFRESH-INTERVAL;VALUE=DURATION:PT1H
X-Robots-Tag:noindex
X-PUBLISHED-TTL:PT1H
BEGIN:VTIMEZONE
TZID:Europe/Vienna
BEGIN:DAYLIGHT
TZOFFSETFROM:+0100
TZOFFSETTO:+0200
TZNAME:CEST
DTSTART:20240331T010000
END:DAYLIGHT
BEGIN:STANDARD
TZOFFSETFROM:+0200
TZOFFSETTO:+0100
TZNAME:CET
DTSTART:20241027T010000
END:STANDARD
BEGIN:DAYLIGHT
TZOFFSETFROM:+0100
TZOFFSETTO:+0200
TZNAME:CEST
DTSTART:20250330T010000
END:DAYLIGHT
BEGIN:STANDARD
TZOFFSETFROM:+0200
TZOFFSETTO:+0100
TZNAME:CET
DTSTART:20251026T010000
END:STANDARD
BEGIN:DAYLIGHT
TZOFFSETFROM:+0100
TZOFFSETTO:+0200
TZNAME:CEST
DTSTART:20260329T010000
END:DAYLIGHT
BEGIN:STANDARD
TZOFFSETFROM:+0200
TZOFFSETTO:+0100
TZNAME:CET
DTSTART:20261025T010000
END:STANDARD
END:VTIMEZONE
BEGIN:VEVENT
DTSTART;VALUE=DATE:20251010
DTEND;VALUE=DATE:20251013
DTSTAMP:20260424T104517
CREATED:20250904T134015Z
LAST-MODIFIED:20250904T150341Z
UID:10000243-1760054400-1760313599@www.oerhb.at
SUMMARY:4. Landesprüfung 2025 Kärnten
DESCRIPTION:Prüfung der Österreichischen Rettungshundebrigade Landesgruppe Kärnten. \nLeistungsrichter: Klaus Herzog \nPrüfungsleiterin: Christin Stotz \nOrt: Staffel Finkenstein \nDatum: 10. – 12.10.2025\n \nFCI/IRO SAR: \n RH FL V\, A\, B \nRH T V\, A\, B \nÖPO BH VT\, IBGH 1 – 3 \n  \nAnmeldung online möglich bis 25.09.2025\, 23:30 Uhr \nPrüfungstraining Fläche am 04.10.2025 und Trümmer am 05.10.2025 \nNähere Informationen zur Veranstaltung werden zeitnah von der Landesausbildung bekannt gegeben.
URL:https://www.oerhb.at/veranstaltung/4-landespruefung-2025-kaernten/
LOCATION:Finkenstein
CATEGORIES:Kärnten
ORGANIZER;CN="Landesgruppe K%C3%A4rnten":MAILTO:lar-ktn@oerhb.at
END:VEVENT
END:VCALENDAR