BEGIN:VCALENDAR
VERSION:2.0
PRODID:-//ÖRHB - ECPv6.15.18//NONSGML v1.0//EN
CALSCALE:GREGORIAN
METHOD:PUBLISH
X-WR-CALNAME:ÖRHB
X-ORIGINAL-URL:https://www.oerhb.at
X-WR-CALDESC:Veranstaltungen für ÖRHB
REFRESH-INTERVAL;VALUE=DURATION:PT1H
X-Robots-Tag:noindex
X-PUBLISHED-TTL:PT1H
BEGIN:VTIMEZONE
TZID:Europe/Vienna
BEGIN:DAYLIGHT
TZOFFSETFROM:+0100
TZOFFSETTO:+0200
TZNAME:CEST
DTSTART:20240331T010000
END:DAYLIGHT
BEGIN:STANDARD
TZOFFSETFROM:+0200
TZOFFSETTO:+0100
TZNAME:CET
DTSTART:20241027T010000
END:STANDARD
BEGIN:DAYLIGHT
TZOFFSETFROM:+0100
TZOFFSETTO:+0200
TZNAME:CEST
DTSTART:20250330T010000
END:DAYLIGHT
BEGIN:STANDARD
TZOFFSETFROM:+0200
TZOFFSETTO:+0100
TZNAME:CET
DTSTART:20251026T010000
END:STANDARD
BEGIN:DAYLIGHT
TZOFFSETFROM:+0100
TZOFFSETTO:+0200
TZNAME:CEST
DTSTART:20260329T010000
END:DAYLIGHT
BEGIN:STANDARD
TZOFFSETFROM:+0200
TZOFFSETTO:+0100
TZNAME:CET
DTSTART:20261025T010000
END:STANDARD
END:VTIMEZONE
BEGIN:VEVENT
DTSTART;TZID=Europe/Vienna:20250328T180000
DTEND;TZID=Europe/Vienna:20250328T203000
DTSTAMP:20260424T174945
CREATED:20250325T055042Z
LAST-MODIFIED:20250325T055042Z
UID:10000214-1743184800-1743193800@www.oerhb.at
SUMMARY:Landestag 2025
DESCRIPTION:Einladung zum Landestag 2025 \nTAGESORDUNG siehe Einladung \nParkmöglichkeit: Beim HVD Platz \nAdjustierung: Einsatzuniform \n 
URL:https://www.oerhb.at/veranstaltung/landestag-2025/
LOCATION:Gertruds Mostschank\, Martinsruh 3\, Dornbirn\, Vorarlberg\, 6850
CATEGORIES:Vorarlberg
END:VEVENT
END:VCALENDAR