BEGIN:VCALENDAR
VERSION:2.0
PRODID:-//ÖRHB - ECPv6.15.18//NONSGML v1.0//EN
CALSCALE:GREGORIAN
METHOD:PUBLISH
X-WR-CALNAME:ÖRHB
X-ORIGINAL-URL:https://www.oerhb.at
X-WR-CALDESC:Veranstaltungen für ÖRHB
REFRESH-INTERVAL;VALUE=DURATION:PT1H
X-Robots-Tag:noindex
X-PUBLISHED-TTL:PT1H
BEGIN:VTIMEZONE
TZID:Europe/Vienna
BEGIN:DAYLIGHT
TZOFFSETFROM:+0100
TZOFFSETTO:+0200
TZNAME:CEST
DTSTART:20240331T010000
END:DAYLIGHT
BEGIN:STANDARD
TZOFFSETFROM:+0200
TZOFFSETTO:+0100
TZNAME:CET
DTSTART:20241027T010000
END:STANDARD
BEGIN:DAYLIGHT
TZOFFSETFROM:+0100
TZOFFSETTO:+0200
TZNAME:CEST
DTSTART:20250330T010000
END:DAYLIGHT
BEGIN:STANDARD
TZOFFSETFROM:+0200
TZOFFSETTO:+0100
TZNAME:CET
DTSTART:20251026T010000
END:STANDARD
BEGIN:DAYLIGHT
TZOFFSETFROM:+0100
TZOFFSETTO:+0200
TZNAME:CEST
DTSTART:20260329T010000
END:DAYLIGHT
BEGIN:STANDARD
TZOFFSETFROM:+0200
TZOFFSETTO:+0100
TZNAME:CET
DTSTART:20261025T010000
END:STANDARD
END:VTIMEZONE
BEGIN:VEVENT
DTSTART;VALUE=DATE:20250620
DTEND;VALUE=DATE:20250623
DTSTAMP:20260424T152159
CREATED:20250408T184604Z
LAST-MODIFIED:20250408T190544Z
UID:10000219-1750377600-1750636799@www.oerhb.at
SUMMARY:Sportliches Turniertraining
DESCRIPTION:Das Sportreferat möchte jungen\, ambitionierten Hundeführer: innen die Möglichkeit bieten\, sich im geschützten Rahmen auf mögliche Prüfungs- oder Turnierstarts vorzubereiten. Es wird unter „Sportbedingungen“ die gesamte Prüfungsordnung trainiert. Kriterium für die Teilnahme ist eine bestandene Vorprüfung nach FCI-Prüfungsordnung in der jeweiligen Sparte. Es wird Fläche und Trümmer angeboten. Helfer: innen sind natürlich immer willkommen. Für alle weiteren Fragen steht euch Klaus Herzog jederzeit gerne zur Verfügung. Bei zu vielen Interessierten erfolgt eine Reihung nach Zeitpunkt der Anmeldung. \nZur Einladung \nDie Anmeldung ist bis zum 30.4.2025 möglich.
URL:https://www.oerhb.at/veranstaltung/sportliches-turniertraining/
LOCATION:IRO Trainingsgelände Schöneben\, Ulrichsberg\, 4161\, Österreich
CATEGORIES:Bund
ATTACH;FMTTYPE=image/jpeg:/wp-content/uploads/2025/04/Truemmertraining.jpg
ORGANIZER;CN="Bund - Sportreferat":MAILTO:herzogklaus@gmx.at
END:VEVENT
END:VCALENDAR