BEGIN:VCALENDAR
VERSION:2.0
PRODID:-//ÖRHB - ECPv6.15.18//NONSGML v1.0//EN
CALSCALE:GREGORIAN
METHOD:PUBLISH
X-ORIGINAL-URL:https://www.oerhb.at
X-WR-CALDESC:Veranstaltungen für ÖRHB
REFRESH-INTERVAL;VALUE=DURATION:PT1H
X-Robots-Tag:noindex
X-PUBLISHED-TTL:PT1H
BEGIN:VTIMEZONE
TZID:Europe/Vienna
BEGIN:DAYLIGHT
TZOFFSETFROM:+0100
TZOFFSETTO:+0200
TZNAME:CEST
DTSTART:20240331T010000
END:DAYLIGHT
BEGIN:STANDARD
TZOFFSETFROM:+0200
TZOFFSETTO:+0100
TZNAME:CET
DTSTART:20241027T010000
END:STANDARD
BEGIN:DAYLIGHT
TZOFFSETFROM:+0100
TZOFFSETTO:+0200
TZNAME:CEST
DTSTART:20250330T010000
END:DAYLIGHT
BEGIN:STANDARD
TZOFFSETFROM:+0200
TZOFFSETTO:+0100
TZNAME:CET
DTSTART:20251026T010000
END:STANDARD
BEGIN:DAYLIGHT
TZOFFSETFROM:+0100
TZOFFSETTO:+0200
TZNAME:CEST
DTSTART:20260329T010000
END:DAYLIGHT
BEGIN:STANDARD
TZOFFSETFROM:+0200
TZOFFSETTO:+0100
TZNAME:CET
DTSTART:20261025T010000
END:STANDARD
BEGIN:DAYLIGHT
TZOFFSETFROM:+0100
TZOFFSETTO:+0200
TZNAME:CEST
DTSTART:20270328T010000
END:DAYLIGHT
BEGIN:STANDARD
TZOFFSETFROM:+0200
TZOFFSETTO:+0100
TZNAME:CET
DTSTART:20271031T010000
END:STANDARD
END:VTIMEZONE
BEGIN:VEVENT
DTSTART;VALUE=DATE:20260321
DTEND;VALUE=DATE:20260323
DTSTAMP:20260421T104513
CREATED:20251220T182820Z
LAST-MODIFIED:20260122T053602Z
UID:10000259-1774051200-1774223999@www.oerhb.at
SUMMARY:Trainermodul 3 + 4
DESCRIPTION:Die Bundesausbildung lädt euch herzlich zum Modul 3 und 4 für den ÖRHB/ÖKV-Trainer ein. \nAnmeldung ab sofort per E-Mail an bar@oerhb.at. \nZur Einladung und weiteren Infos
URL:https://www.oerhb.at/veranstaltung/trainermodul-3-4/
LOCATION:Landesbüro Steiermark\, Hauptstraße 11b\, Kraubath an der Mur\, Steiermark\, 8714\, Österreich
CATEGORIES:Bund
ATTACH;FMTTYPE=image/jpeg:/wp-content/uploads/2025/06/oerhb-voll-02792.jpg
ORGANIZER;CN="Bundesausbildung":MAILTO:bar@oerhb.at
END:VEVENT
BEGIN:VEVENT
DTSTART;VALUE=DATE:20260221
DTEND;VALUE=DATE:20260222
DTSTAMP:20260421T104513
CREATED:20251220T182432Z
LAST-MODIFIED:20260122T054043Z
UID:10000258-1771632000-1771718399@www.oerhb.at
SUMMARY:LAR-Treffen
DESCRIPTION:Die Bundesausbildung lädt euch herzlich zum heurigen LAR-Treffen ein. Wir werden Bewertungsrichtlinien beider Prüfungsordnungen besprechen\, die Neuerungen aus den Richtertagungen vorstellen und insbesondere Videos aus UO/GW analysieren. \nAnmeldung ab sofort unkompliziert in der WhatsApp-Gruppe. \nZur Einladung und weiteren Infos
URL:https://www.oerhb.at/veranstaltung/lar-treffen/
LOCATION:Landesbüro Steiermark\, Hauptstraße 11b\, Kraubath an der Mur\, Steiermark\, 8714\, Österreich
CATEGORIES:Bund
ATTACH;FMTTYPE=image/jpeg:/wp-content/uploads/2024/08/truemmerlehrgang2024-4.jpg
ORGANIZER;CN="Bundesausbildung":MAILTO:bar@oerhb.at
END:VEVENT
BEGIN:VEVENT
DTSTART;VALUE=DATE:20260201
DTEND;VALUE=DATE:20260202
DTSTAMP:20260421T104513
CREATED:20251220T181744Z
LAST-MODIFIED:20260122T054613Z
UID:10000257-1769904000-1769990399@www.oerhb.at
SUMMARY:Richtertagung ÖRHB
DESCRIPTION:Die Bundesausbildung lädt euch herzlich zur heurigen Richtertagung ein. Wir werden Beurteilungskritierien zum Thema Mantrailing diskutieren und Neuerungen aus der ÖKV-Richtertagung besprechen. \nAnmeldung ab sofort per Mail an bar@oerhb.at. \nZur Einladung und weiteren Infos
URL:https://www.oerhb.at/veranstaltung/richtertagung-oerhb-2/
LOCATION:Landesbüro Steiermark\, Hauptstraße 11b\, Kraubath an der Mur\, Steiermark\, 8714\, Österreich
CATEGORIES:Bund
ATTACH;FMTTYPE=image/jpeg:/wp-content/uploads/2024/11/Leistungsrichter1.jpg
ORGANIZER;CN="Bundesausbildung":MAILTO:bar@oerhb.at
END:VEVENT
BEGIN:VEVENT
DTSTART;VALUE=DATE:20250222
DTEND;VALUE=DATE:20250223
DTSTAMP:20260421T104513
CREATED:20241103T074953Z
LAST-MODIFIED:20250201T105212Z
UID:10000164-1740182400-1740268799@www.oerhb.at
SUMMARY:Richtertagung ÖRHB
DESCRIPTION:
URL:https://www.oerhb.at/veranstaltung/richtertagung-oerhb/
LOCATION:Landesbüro Steiermark\, Hauptstraße 11b\, Kraubath an der Mur\, Steiermark\, 8714\, Österreich
CATEGORIES:Bund
ATTACH;FMTTYPE=image/jpeg:/wp-content/uploads/2024/11/Leistungsrichter1.jpg
ORGANIZER;CN="Bundesb%C3%BCro":MAILTO:cornelia.friesser@oerhb.at
END:VEVENT
END:VCALENDAR