BEGIN:VCALENDAR
VERSION:2.0
PRODID:-//ÖRHB - ECPv6.15.18//NONSGML v1.0//EN
CALSCALE:GREGORIAN
METHOD:PUBLISH
X-ORIGINAL-URL:https://www.oerhb.at
X-WR-CALDESC:Veranstaltungen für ÖRHB
REFRESH-INTERVAL;VALUE=DURATION:PT1H
X-Robots-Tag:noindex
X-PUBLISHED-TTL:PT1H
BEGIN:VTIMEZONE
TZID:Europe/Vienna
BEGIN:DAYLIGHT
TZOFFSETFROM:+0100
TZOFFSETTO:+0200
TZNAME:CEST
DTSTART:20240331T010000
END:DAYLIGHT
BEGIN:STANDARD
TZOFFSETFROM:+0200
TZOFFSETTO:+0100
TZNAME:CET
DTSTART:20241027T010000
END:STANDARD
BEGIN:DAYLIGHT
TZOFFSETFROM:+0100
TZOFFSETTO:+0200
TZNAME:CEST
DTSTART:20250330T010000
END:DAYLIGHT
BEGIN:STANDARD
TZOFFSETFROM:+0200
TZOFFSETTO:+0100
TZNAME:CET
DTSTART:20251026T010000
END:STANDARD
BEGIN:DAYLIGHT
TZOFFSETFROM:+0100
TZOFFSETTO:+0200
TZNAME:CEST
DTSTART:20260329T010000
END:DAYLIGHT
BEGIN:STANDARD
TZOFFSETFROM:+0200
TZOFFSETTO:+0100
TZNAME:CET
DTSTART:20261025T010000
END:STANDARD
END:VTIMEZONE
BEGIN:VEVENT
DTSTART;VALUE=DATE:20251025
DTEND;VALUE=DATE:20251027
DTSTAMP:20260424T133923
CREATED:20250226T062804Z
LAST-MODIFIED:20250226T062804Z
UID:10000200-1761350400-1761523199@www.oerhb.at
SUMMARY:Landesprüfung 4/OÖ
DESCRIPTION:
URL:https://www.oerhb.at/veranstaltung/landespruefung-4-ooe/
LOCATION:Linz
CATEGORIES:Oberösterreich
ATTACH;FMTTYPE=image/jpeg:/wp-content/uploads/2023/07/Retter-Messe-2023.jpg
ORGANIZER;CN="Landesgruppe Ober%C3%B6sterreich":MAILTO:lar-ooe@oerhb.at
END:VEVENT
BEGIN:VEVENT
DTSTART;VALUE=DATE:20250426
DTEND;VALUE=DATE:20250428
DTSTAMP:20260424T133923
CREATED:20250226T061659Z
LAST-MODIFIED:20250226T062011Z
UID:10000196-1745625600-1745798399@www.oerhb.at
SUMMARY:Landesprüfung 2/OÖ
DESCRIPTION:
URL:https://www.oerhb.at/veranstaltung/landespruefung-2-ooe/
LOCATION:Linz
CATEGORIES:Oberösterreich
ATTACH;FMTTYPE=image/jpeg:/wp-content/uploads/2023/07/Retter-Messe-2023.jpg
ORGANIZER;CN="Landesgruppe Ober%C3%B6sterreich":MAILTO:lar-ooe@oerhb.at
END:VEVENT
END:VCALENDAR