BEGIN:VCALENDAR
VERSION:2.0
PRODID:-//ÖRHB - ECPv6.15.18//NONSGML v1.0//EN
CALSCALE:GREGORIAN
METHOD:PUBLISH
X-ORIGINAL-URL:https://www.oerhb.at
X-WR-CALDESC:Veranstaltungen für ÖRHB
REFRESH-INTERVAL;VALUE=DURATION:PT1H
X-Robots-Tag:noindex
X-PUBLISHED-TTL:PT1H
BEGIN:VTIMEZONE
TZID:Europe/Vienna
BEGIN:DAYLIGHT
TZOFFSETFROM:+0100
TZOFFSETTO:+0200
TZNAME:CEST
DTSTART:20240331T010000
END:DAYLIGHT
BEGIN:STANDARD
TZOFFSETFROM:+0200
TZOFFSETTO:+0100
TZNAME:CET
DTSTART:20241027T010000
END:STANDARD
BEGIN:DAYLIGHT
TZOFFSETFROM:+0100
TZOFFSETTO:+0200
TZNAME:CEST
DTSTART:20250330T010000
END:DAYLIGHT
BEGIN:STANDARD
TZOFFSETFROM:+0200
TZOFFSETTO:+0100
TZNAME:CET
DTSTART:20251026T010000
END:STANDARD
BEGIN:DAYLIGHT
TZOFFSETFROM:+0100
TZOFFSETTO:+0200
TZNAME:CEST
DTSTART:20260329T010000
END:DAYLIGHT
BEGIN:STANDARD
TZOFFSETFROM:+0200
TZOFFSETTO:+0100
TZNAME:CET
DTSTART:20261025T010000
END:STANDARD
END:VTIMEZONE
BEGIN:VEVENT
DTSTART;VALUE=DATE:20251108
DTEND;VALUE=DATE:20251109
DTSTAMP:20260424T133923
CREATED:20250612T070830Z
LAST-MODIFIED:20251014T085531Z
UID:10000227-1762560000-1762646399@www.oerhb.at
SUMMARY:3. Landesprüfung
DESCRIPTION:Liebe Mitglieder\, \nam 08.11.2025 findet in Bruckneudorf die 3. Landesprüfung statt. Am 01.11.2025 gibt es die Möglichkeit im Prüfungsgelände zu trainieren. Richten wird die Leistungsrichterin Sandra Schmid. \nMögliche Prüfungssparten sind: IPO-FL\, BH-VT und IBGH. \nAnmeldungen sind ab sofort bis spätestens 25.10.2025 unter lar-bgld@oerhb.at möglich. Notwendig sind dafür die vollständigen Angaben vom Hund und dem/der Hundeführer:in.
URL:https://www.oerhb.at/veranstaltung/3-landespruefung/
LOCATION:Mörbisch
CATEGORIES:Burgenland
ATTACH;FMTTYPE=image/jpeg:/wp-content/uploads/2025/06/WhatsApp-Bild-2025-06-11-um-20.43.38_1a83e2ac.jpg
ORGANIZER;CN="LAR Burgenland":MAILTO:lar-bgld@oerhb.at
END:VEVENT
END:VCALENDAR