BEGIN:VCALENDAR
VERSION:2.0
PRODID:-//ÖRHB - ECPv6.15.18//NONSGML v1.0//EN
CALSCALE:GREGORIAN
METHOD:PUBLISH
X-WR-CALNAME:ÖRHB
X-ORIGINAL-URL:https://www.oerhb.at
X-WR-CALDESC:Veranstaltungen für ÖRHB
REFRESH-INTERVAL;VALUE=DURATION:PT1H
X-Robots-Tag:noindex
X-PUBLISHED-TTL:PT1H
BEGIN:VTIMEZONE
TZID:Europe/Vienna
BEGIN:DAYLIGHT
TZOFFSETFROM:+0100
TZOFFSETTO:+0200
TZNAME:CEST
DTSTART:20250330T010000
END:DAYLIGHT
BEGIN:STANDARD
TZOFFSETFROM:+0200
TZOFFSETTO:+0100
TZNAME:CET
DTSTART:20251026T010000
END:STANDARD
BEGIN:DAYLIGHT
TZOFFSETFROM:+0100
TZOFFSETTO:+0200
TZNAME:CEST
DTSTART:20260329T010000
END:DAYLIGHT
BEGIN:STANDARD
TZOFFSETFROM:+0200
TZOFFSETTO:+0100
TZNAME:CET
DTSTART:20261025T010000
END:STANDARD
BEGIN:DAYLIGHT
TZOFFSETFROM:+0100
TZOFFSETTO:+0200
TZNAME:CEST
DTSTART:20270328T010000
END:DAYLIGHT
BEGIN:STANDARD
TZOFFSETFROM:+0200
TZOFFSETTO:+0100
TZNAME:CET
DTSTART:20271031T010000
END:STANDARD
END:VTIMEZONE
BEGIN:VEVENT
DTSTART;VALUE=DATE:20260228
DTEND;VALUE=DATE:20260301
DTSTAMP:20260424T124216
CREATED:20251105T192929Z
LAST-MODIFIED:20260228T063926Z
UID:10000249-1772236800-1772323199@www.oerhb.at
SUMMARY:60-Jahr-Feier der ÖRHB
DESCRIPTION:Herzliche Einladung zur 60-Jahr-Feier! \nHunde retten Menschenleben – und das seit 1966! Unsere ÖRHB kann in diesem Jahr auf 60 Jahre Vereinsgeschichte zurückblicken. Wir freuen uns\, diesen Anlass gemeinsam am 28. Februar 2026 auf der Burg Spielberg zu feiern. Zum Festakt mit vielen geschichtsträchtigen Rückblicken\, spannenden Highlights und Zukunftsperspektiven laden wir alle ÖRHB-Mitglieder herzlichst ein. \nEintreffen um 18:00 Uhr \nDresscode für ÖRHB-Mitglieder: dunkle Hose\, weißes ÖRHB Shirt\, Polo oder Bluse\, wenn vorhanden schwarze ÖRHB Fleece-\, Softshell- oder Strickjacke bzw schwarze Oberbekleidung
URL:https://www.oerhb.at/veranstaltung/60-jahr-feier-der-oerhb/
LOCATION:Burg Spielberg\, Burgstraße 1\, Spielberg\, 8724\, Österreich
CATEGORIES:Bund
ATTACH;FMTTYPE=image/jpeg:/wp-content/uploads/2026/01/Einladung-zur-60-Jahr-Feier-web.jpg
ORGANIZER;CN="Bundesb%C3%BCro":MAILTO:cornelia.friesser@oerhb.at
END:VEVENT
END:VCALENDAR