BEGIN:VCALENDAR
VERSION:2.0
PRODID:-//ÖRHB - ECPv6.15.18//NONSGML v1.0//EN
CALSCALE:GREGORIAN
METHOD:PUBLISH
X-WR-CALNAME:ÖRHB
X-ORIGINAL-URL:https://www.oerhb.at
X-WR-CALDESC:Veranstaltungen für ÖRHB
REFRESH-INTERVAL;VALUE=DURATION:PT1H
X-Robots-Tag:noindex
X-PUBLISHED-TTL:PT1H
BEGIN:VTIMEZONE
TZID:Europe/Vienna
BEGIN:DAYLIGHT
TZOFFSETFROM:+0100
TZOFFSETTO:+0200
TZNAME:CEST
DTSTART:20220327T010000
END:DAYLIGHT
BEGIN:STANDARD
TZOFFSETFROM:+0200
TZOFFSETTO:+0100
TZNAME:CET
DTSTART:20221030T010000
END:STANDARD
BEGIN:DAYLIGHT
TZOFFSETFROM:+0100
TZOFFSETTO:+0200
TZNAME:CEST
DTSTART:20230326T010000
END:DAYLIGHT
BEGIN:STANDARD
TZOFFSETFROM:+0200
TZOFFSETTO:+0100
TZNAME:CET
DTSTART:20231029T010000
END:STANDARD
BEGIN:DAYLIGHT
TZOFFSETFROM:+0100
TZOFFSETTO:+0200
TZNAME:CEST
DTSTART:20240331T010000
END:DAYLIGHT
BEGIN:STANDARD
TZOFFSETFROM:+0200
TZOFFSETTO:+0100
TZNAME:CET
DTSTART:20241027T010000
END:STANDARD
BEGIN:DAYLIGHT
TZOFFSETFROM:+0100
TZOFFSETTO:+0200
TZNAME:CEST
DTSTART:20250330T010000
END:DAYLIGHT
BEGIN:STANDARD
TZOFFSETFROM:+0200
TZOFFSETTO:+0100
TZNAME:CET
DTSTART:20251026T010000
END:STANDARD
BEGIN:DAYLIGHT
TZOFFSETFROM:+0100
TZOFFSETTO:+0200
TZNAME:CEST
DTSTART:20260329T010000
END:DAYLIGHT
BEGIN:STANDARD
TZOFFSETFROM:+0200
TZOFFSETTO:+0100
TZNAME:CET
DTSTART:20261025T010000
END:STANDARD
BEGIN:DAYLIGHT
TZOFFSETFROM:+0100
TZOFFSETTO:+0200
TZNAME:CEST
DTSTART:20270328T010000
END:DAYLIGHT
BEGIN:STANDARD
TZOFFSETFROM:+0200
TZOFFSETTO:+0100
TZNAME:CET
DTSTART:20271031T010000
END:STANDARD
END:VTIMEZONE
BEGIN:VEVENT
DTSTART;TZID=Europe/Vienna:20260313T183000
DTEND;TZID=Europe/Vienna:20260313T200000
DTSTAMP:20260424T163527
CREATED:20260211T190918Z
LAST-MODIFIED:20260211T190918Z
UID:10000288-1773426600-1773432000@www.oerhb.at
SUMMARY:Landestag Kärnten
DESCRIPTION:Der Landestag der Österreichischen Rettungshundebrigade Landesgruppe Kärnten für das Geschäftsjahr 2025 findet am 13.03.2026 in Treffen im Hotel eduCARE statt. \nDatum: 13.03.2026 \nOrt: eduCARE\, Eichrainweg 7-9\, 9521 Treffen bei Villach \nUhrzeit: 18:30 Uhr \nDie Einladung an alle Mitglieder der Landesgruppe Kärnten erfolgt statutenkonform schriftlich. \nAuf das pünktliche und verlässliche Erscheinen der Mitglieder freut sich die Landesleitung. \nAnmeldung via Onlineformular möglich bis 06.03.2026
URL:https://www.oerhb.at/veranstaltung/landestag-kaernten-4/
LOCATION:Treffen bei Villach\, Kärnten\, Österreich
CATEGORIES:Kärnten
ORGANIZER;CN="Landesgruppe K%C3%A4rnten":MAILTO:lar-ktn@oerhb.at
END:VEVENT
BEGIN:VEVENT
DTSTART;TZID=Europe/Vienna:20250307T183000
DTEND;TZID=Europe/Vienna:20250307T200000
DTSTAMP:20260424T163527
CREATED:20250206T065750Z
LAST-MODIFIED:20250206T065750Z
UID:10000192-1741372200-1741377600@www.oerhb.at
SUMMARY:Landestag Kärnten
DESCRIPTION:Der Landestag der Österreichischen Rettungshundebrigade Landesgruppe Kärnten für das Geschäftsjahr 2024 findet am 07.03.2025 in Treffen im eduCARE statt. \nDatum: 07.03.2025 \nOrt: eduCARE\, Eichrainweg 7-9\, 9521 Treffen bei Villach \nUhrzeit: 18:30 Uhr \nDie Einladung an alle Mitglieder der Landesgruppe Kärnten erfolgt statutenkonform schriftlich. \nAuf das pünktliche und verlässliche Erscheinen der Mitglieder freut sich die Landesleitung. \nAnmeldung via Onlineformular möglich bis 28.02.2025
URL:https://www.oerhb.at/veranstaltung/landestag-kaernten-3/
LOCATION:Treffen bei Villach\, Kärnten\, Österreich
CATEGORIES:Kärnten
ORGANIZER;CN="Landesgruppe K%C3%A4rnten":MAILTO:lar-ktn@oerhb.at
END:VEVENT
BEGIN:VEVENT
DTSTART;TZID=Europe/Vienna:20230324T180000
DTEND;TZID=Europe/Vienna:20230324T200000
DTSTAMP:20260424T163527
CREATED:20230220T110302Z
LAST-MODIFIED:20230220T110302Z
UID:10000044-1679680800-1679688000@www.oerhb.at
SUMMARY:Landestag Kärnten
DESCRIPTION:Der Landestag der Österreichischen Rettungshundebrigade Landesgruppe Kärnten für das Geschäftsjahr 2022 findet am 24.03.2023 ab 18 Uhr in Treffen bei Villach statt. \nDie Einladung an alle Mitglieder der Landesgruppe Kärnten erfolgt statutenkonform schriftlich. \nAuf das pünktliche und verlässliche Erscheinen der Mitglieder freut sich die Landesleitung.
URL:https://www.oerhb.at/veranstaltung/landestag-kaernten/
LOCATION:Treffen bei Villach\, Kärnten\, Österreich
CATEGORIES:Bund,Kärnten
ORGANIZER;CN="Landesgruppe K%C3%A4rnten":MAILTO:lar-ktn@oerhb.at
END:VEVENT
END:VCALENDAR